BEGIN:VCALENDAR
VERSION:2.0
PRODID:-//Rock 95 - ECPv6.15.16//NONSGML v1.0//EN
CALSCALE:GREGORIAN
METHOD:PUBLISH
X-WR-CALNAME:Rock 95
X-ORIGINAL-URL:https://rock95.com
X-WR-CALDESC:Events for Rock 95
REFRESH-INTERVAL;VALUE=DURATION:PT1H
X-Robots-Tag:noindex
X-PUBLISHED-TTL:PT1H
BEGIN:VTIMEZONE
TZID:America/Toronto
BEGIN:DAYLIGHT
TZOFFSETFROM:-0500
TZOFFSETTO:-0400
TZNAME:EDT
DTSTART:20240310T070000
END:DAYLIGHT
BEGIN:STANDARD
TZOFFSETFROM:-0400
TZOFFSETTO:-0500
TZNAME:EST
DTSTART:20241103T060000
END:STANDARD
BEGIN:DAYLIGHT
TZOFFSETFROM:-0500
TZOFFSETTO:-0400
TZNAME:EDT
DTSTART:20250309T070000
END:DAYLIGHT
BEGIN:STANDARD
TZOFFSETFROM:-0400
TZOFFSETTO:-0500
TZNAME:EST
DTSTART:20251102T060000
END:STANDARD
BEGIN:DAYLIGHT
TZOFFSETFROM:-0500
TZOFFSETTO:-0400
TZNAME:EDT
DTSTART:20260308T070000
END:DAYLIGHT
BEGIN:STANDARD
TZOFFSETFROM:-0400
TZOFFSETTO:-0500
TZNAME:EST
DTSTART:20261101T060000
END:STANDARD
END:VTIMEZONE
BEGIN:VEVENT
DTSTART;TZID=America/Toronto:20250621T080000
DTEND;TZID=America/Toronto:20250621T130000
DTSTAMP:20260423T062008
CREATED:20250620T174906Z
LAST-MODIFIED:20250620T174906Z
UID:10000860-1750492800-1750510800@rock95.com
SUMMARY:Garage Sale - 46 Muir Dr\, Barrie
DESCRIPTION:46 muir dr\, Saturday June 21 from 8am till 1pm. We are moving so lots of stuff to choose from. Rain or shine!
URL:https://rock95.com/event/garage-sale-46-muir-dr-barrie/
CATEGORIES:Garage Sales
END:VEVENT
BEGIN:VEVENT
DTSTART;TZID=America/Toronto:20250621T080000
DTEND;TZID=America/Toronto:20250621T130000
DTSTAMP:20260423T062008
CREATED:20250616T202954Z
LAST-MODIFIED:20250616T203313Z
UID:10000850-1750492800-1750510800@rock95.com
SUMMARY:Huge Garage Sale - 633 Mapleview Dr E\, Barrie
DESCRIPTION:Huge Garage Sale!! \nACROSS FROM METRO SOUTH BARRIE LOCATION. \nFor the Women:\nClothes\, jewellery\, artwork/prints & frames\, pillows\, walkers and senior care supplies. \nFor the Gentlemen:\nTruck/car accessories\, tools & building supplies\, fishing & sport gear. \n  \n+ Tons of knickknacks and more!!
URL:https://rock95.com/event/huge-garage-sale/
CATEGORIES:Garage Sales
END:VEVENT
BEGIN:VEVENT
DTSTART;TZID=America/Toronto:20250621T080000
DTEND;TZID=America/Toronto:20250621T130000
DTSTAMP:20260423T062008
CREATED:20250616T202212Z
LAST-MODIFIED:20250616T202212Z
UID:10000845-1750492800-1750510800@rock95.com
SUMMARY:Garage Sale - 21 Jennings Dr\, Penetanguishene
DESCRIPTION:Items: vintage 1903 mantle clock\, vintage model kits\, Trek bike\, lamps\, plants\, quilts and much more.
URL:https://rock95.com/event/garage-sale-21-jennings-dr-penetanguishene/
CATEGORIES:Garage Sales
END:VEVENT
BEGIN:VEVENT
DTSTART;TZID=America/Toronto:20250621T080000
DTEND;TZID=America/Toronto:20250621T120000
DTSTAMP:20260423T062008
CREATED:20250616T203054Z
LAST-MODIFIED:20250616T203054Z
UID:10000851-1750492800-1750507200@rock95.com
SUMMARY:Mother of All Garage Sales - 22 Forsyth Crescent\, Barrie
DESCRIPTION:Mother of All Yard Sales! Something for everyone at this yard sale: gently used baby items\, electric piano\, roomba and high end vacuum(s) and more! Prices listed to sell.
URL:https://rock95.com/event/mother-of-all-garage-sales-22-forsyth-crescent-barrie/
CATEGORIES:Garage Sales
END:VEVENT
BEGIN:VEVENT
DTSTART;TZID=America/Toronto:20250621T080000
DTEND;TZID=America/Toronto:20250621T120000
DTSTAMP:20260423T062008
CREATED:20250616T200710Z
LAST-MODIFIED:20250616T200710Z
UID:10000844-1750492800-1750507200@rock95.com
SUMMARY:Yard Sale - 202 Crawford St\, Barrie
DESCRIPTION:Pre-move yard sale of various household items
URL:https://rock95.com/event/yard-sale-202-crawford-st-barrie/
CATEGORIES:Garage Sales
END:VEVENT
BEGIN:VEVENT
DTSTART;TZID=America/Toronto:20250621T073000
DTEND;TZID=America/Toronto:20250621T123000
DTSTAMP:20260423T062008
CREATED:20250523T184007Z
LAST-MODIFIED:20250523T184007Z
UID:10000760-1750491000-1750509000@rock95.com
SUMMARY:COMMUNITY FUN DAY\, YARD SALE & BBQ!
DESCRIPTION:9th Annual COMMUNITY FUN DAY\, *YARD SALE & BBQ – 7:30am-12:30pm! \n*BOOK YOUR SPOT in our Community Yard Sale – just $20 for 2 spaces. Call 705-737-2113 or email info@bfmc.org. \nAll are welcome to come out for a great morning of shopping\, food\, fun\nand games for the whole family ...there's something for all ages: \n• 40+ yard sale vendors*\n• Kids Zone including: Jumping Castle\, Games\, Face Painting & Puppy Adoption!\n• Kids Community Safety – Free Bike Repair\n• Bake Sale\n• Live Music\n• Hot dogs\, refreshments – donations only\n• FREE ICE CREAM and cotton candy\n• ...and more! \nAll proceeds to be donated to CAMP PROMISE a local non-profit after school program\nFree parking available off Livingstone St E (at Cundles Rd E)
URL:https://rock95.com/event/community-fun-day-yard-sale-bbq/
LOCATION:Barrie Free Methodist Church\, 284 Cundles Rd E\, Barrie\, Ontario\, L4M 6L1\, Canada
CATEGORIES:Garage Sales
ATTACH;FMTTYPE=image/png:https://rock95.com/cobPub/uploads/2025/05/Community-Fun-Day-2025-Poster-portrait1.png
END:VEVENT
BEGIN:VEVENT
DTSTART;TZID=America/Toronto:20250621T063000
DTEND;TZID=America/Toronto:20250621T113000
DTSTAMP:20260423T062008
CREATED:20250613T203828Z
LAST-MODIFIED:20250613T203828Z
UID:10000840-1750487400-1750505400@rock95.com
SUMMARY:Garage Sale - 2521 McDonald Road\, Orr Lake
DESCRIPTION:Bikes\, desks\, Heintzman piano\, electric guitar and amp\, dining table and 2x matching chairs\, clothes\, furniture items\, wardrobe\, sporting items\, toys and more.
URL:https://rock95.com/event/garage-sale-2521-mcdonald-road-orr-lake/
CATEGORIES:Garage Sales
END:VEVENT
BEGIN:VEVENT
DTSTART;TZID=America/Toronto:20250615T090000
DTEND;TZID=America/Toronto:20250615T130000
DTSTAMP:20260423T062008
CREATED:20250611T202919Z
LAST-MODIFIED:20250611T202919Z
UID:10000831-1749978000-1749992400@rock95.com
SUMMARY:Pop Culture Garage Sale - 19 Widgeon St\, Barrie
DESCRIPTION:Garage sale this Saturday and Sunday June 14th and 15th 9am- 1pm on widgeon Street in Barrie \nCollectables (harley quinn\,batman\, tmnt\,wwe\, nightmare before christmas\,Disney\,pokemon \,horror\, funko\, video games+so much more) authentic mens and women's fanatics sports clothing mens 2xl-6xl most with tags still on them.Tons of WWE shirts L to 5xL lots of band tshirts (Slipknot\, cradle of filth\, motor head + more Large to 3xL! Raptors memorabilia plus so much more come check it out
URL:https://rock95.com/event/pop-culture-garage-sale-19-widgeon-st-barrie/
CATEGORIES:Garage Sales
END:VEVENT
BEGIN:VEVENT
DTSTART;TZID=America/Toronto:20250615T080000
DTEND;TZID=America/Toronto:20250615T140000
DTSTAMP:20260423T062008
CREATED:20250613T203539Z
LAST-MODIFIED:20250613T203539Z
UID:10000836-1749974400-1749996000@rock95.com
SUMMARY:Garage Sale - 10 John St\, Penetanguishene
DESCRIPTION:10 John street Penetanguishene sat & sun
URL:https://rock95.com/event/garage-sale-10-john-st-penetanguishene-2/
CATEGORIES:Garage Sales
END:VEVENT
BEGIN:VEVENT
DTSTART;TZID=America/Toronto:20250614T100000
DTEND;TZID=America/Toronto:20250616T163000
DTSTAMP:20260423T062008
CREATED:20250613T203752Z
LAST-MODIFIED:20250613T203752Z
UID:10000839-1749895200-1750091400@rock95.com
SUMMARY:Garage Sale - 242 Thornton Ave\, Thornton
DESCRIPTION:242 Thornton Ave\, Thornton Ontario\, GARAGE SALE\, Tools\, tools\, antiques\, household items\, screws\, nails\, fishing stuff.\nlots for sale.. Cheap\, Cheap\, Cheap.\,
URL:https://rock95.com/event/garage-sale-242-thornton-ave-thornton/
CATEGORIES:Garage Sales
END:VEVENT
BEGIN:VEVENT
DTSTART;TZID=America/Toronto:20250614T090000
DTEND;TZID=America/Toronto:20250614T160000
DTSTAMP:20260423T062008
CREATED:20250613T203622Z
LAST-MODIFIED:20250613T203622Z
UID:10000837-1749891600-1749916800@rock95.com
SUMMARY:Garage Sale - 33 Leggott Ave\, Barrie
DESCRIPTION:Event Description
URL:https://rock95.com/event/garage-sale-33-leggott-ave-barrie/
CATEGORIES:Garage Sales
END:VEVENT
BEGIN:VEVENT
DTSTART;TZID=America/Toronto:20250614T090000
DTEND;TZID=America/Toronto:20250614T160000
DTSTAMP:20260423T062008
CREATED:20250602T193139Z
LAST-MODIFIED:20250613T204721Z
UID:10000805-1749891600-1749916800@rock95.com
SUMMARY:Multifamily Yard Sale - 129 King St\, Angus
DESCRIPTION:Big multifamily yard sale 129 king street here in Angus
URL:https://rock95.com/event/multifamily-yard-sale/
CATEGORIES:Garage Sales
END:VEVENT
BEGIN:VEVENT
DTSTART;TZID=America/Toronto:20250614T090000
DTEND;TZID=America/Toronto:20250614T140000
DTSTAMP:20260423T062008
CREATED:20250613T203714Z
LAST-MODIFIED:20250613T203714Z
UID:10000838-1749891600-1749909600@rock95.com
SUMMARY:Driveway Artisan Craft Sale - 216 Sundrew Dr\, Barrie
DESCRIPTION:Saturday June 14th June \n9am-2pm \nDriveway Artisan craft sale \nUnique hand crafted items. \nFathers day cards from $1 \nUnique Fathers Day gifts \nSpiritual decor\, mugs\, glasses\, sun catchers\, wind chimes\, pocket hugs\, jewellery\, etc...
URL:https://rock95.com/event/driveway-artisan-craft-sale-216-sundrew-dr-barrie/
CATEGORIES:Garage Sales
END:VEVENT
BEGIN:VEVENT
DTSTART;TZID=America/Toronto:20250614T090000
DTEND;TZID=America/Toronto:20250614T130000
DTSTAMP:20260423T062008
CREATED:20250611T202923Z
LAST-MODIFIED:20250611T202923Z
UID:10000832-1749891600-1749906000@rock95.com
SUMMARY:Pop Culture Garage Sale - 19 Widgeon St\, Barrie
DESCRIPTION:Garage sale this Saturday and Sunday June 14th and 15th 9am- 1pm on widgeon Street in Barrie \nCollectables (harley quinn\,batman\, tmnt\,wwe\, nightmare before christmas\,Disney\,pokemon \,horror\, funko\, video games+so much more) authentic mens and women's fanatics sports clothing mens 2xl-6xl most with tags still on them.Tons of WWE shirts L to 5xL lots of band tshirts (Slipknot\, cradle of filth\, motor head + more Large to 3xL! Raptors memorabilia plus so much more come check it out \n 
URL:https://rock95.com/event/pop-culture-garage-sale-19-widgeon-st-barrie-2/
CATEGORIES:Garage Sales
END:VEVENT
BEGIN:VEVENT
DTSTART;TZID=America/Toronto:20250614T080000
DTEND;TZID=America/Toronto:20250614T150000
DTSTAMP:20260423T062008
CREATED:20250611T202300Z
LAST-MODIFIED:20250611T202300Z
UID:10000829-1749888000-1749913200@rock95.com
SUMMARY:Garage Sale - 8282 8th Line\, Utopia
DESCRIPTION:Lots of Household items.  Rain or shine.
URL:https://rock95.com/event/garage-sale-8282-8th-line-utopia/
CATEGORIES:Garage Sales
END:VEVENT
BEGIN:VEVENT
DTSTART;TZID=America/Toronto:20250614T080000
DTEND;TZID=America/Toronto:20250614T140000
DTSTAMP:20260423T062008
CREATED:20250613T203509Z
LAST-MODIFIED:20250613T204358Z
UID:10000835-1749888000-1749909600@rock95.com
SUMMARY:Garage Sale - 10 John St\, Penetanguishene
DESCRIPTION:10 John street Penetanguishene sat & sun
URL:https://rock95.com/event/garage-sale-10-john-st-penetanguishene/
CATEGORIES:Garage Sales
END:VEVENT
BEGIN:VEVENT
DTSTART;TZID=America/Toronto:20250614T080000
DTEND;TZID=America/Toronto:20250614T140000
DTSTAMP:20260423T062008
CREATED:20250611T202339Z
LAST-MODIFIED:20250611T202339Z
UID:10000830-1749888000-1749909600@rock95.com
SUMMARY:Garage Sale - 18 Corbeau Crest\, Penetanguishene
DESCRIPTION:Garage Sale
URL:https://rock95.com/event/garage-sale-18-corbeau-crest-penetanguishene/
CATEGORIES:Garage Sales
END:VEVENT
BEGIN:VEVENT
DTSTART;TZID=America/Toronto:20250614T080000
DTEND;TZID=America/Toronto:20250614T140000
DTSTAMP:20260423T062009
CREATED:20250602T192943Z
LAST-MODIFIED:20250602T192943Z
UID:10000803-1749888000-1749909600@rock95.com
SUMMARY:School Wide Yard Sale - 4428 Adjala-Tecumseth Townline\, Alliston
DESCRIPTION:Large multi family yard sale. Supporting Alliston Community Christian School.\nclothes\, household items\, books\, toys.\nSausage on a bun also available for sale.\n8am -2pm.
URL:https://rock95.com/event/school-wide-yard-sale-4428-adjala-tecumseth-townline-alliston/
CATEGORIES:Garage Sales
END:VEVENT
BEGIN:VEVENT
DTSTART;TZID=America/Toronto:20250614T080000
DTEND;TZID=America/Toronto:20250614T120000
DTSTAMP:20260423T062009
CREATED:20250611T203135Z
LAST-MODIFIED:20250611T203135Z
UID:10000833-1749888000-1749902400@rock95.com
SUMMARY:Garage Sale - 74 Raymond Cres\, Barrie
DESCRIPTION:We have some kids toys and some larger items\, such as furniture. Come and check it out. \nThanks for your community support \n 
URL:https://rock95.com/event/garage-sale-74-raymond-cres-barrie/
CATEGORIES:Garage Sales
END:VEVENT
BEGIN:VEVENT
DTSTART;TZID=America/Toronto:20250614T070000
DTEND;TZID=America/Toronto:20250614T130000
DTSTAMP:20260423T062009
CREATED:20250521T192227Z
LAST-MODIFIED:20250521T192227Z
UID:10000753-1749884400-1749906000@rock95.com
SUMMARY:Quota Club Garage Sale - 131 Lucy Lane\, Orillia
DESCRIPTION:Please join the Quota Club of Barrie\, Orillia & Area for their 5th Annual Garage Sale.  Proceeds go to sponsor a service dog through the Lions Foundation of Canada and to Community Service projects.  Amazing selection of items .. something for everyone.
URL:https://rock95.com/event/quota-club-garage-sale-131-lucy-lane-orillia/
CATEGORIES:Garage Sales
END:VEVENT
BEGIN:VEVENT
DTSTART;TZID=America/Toronto:20250613T080000
DTEND;TZID=America/Toronto:20250613T140000
DTSTAMP:20260423T062009
CREATED:20250613T203930Z
LAST-MODIFIED:20250613T203930Z
UID:10000841-1749801600-1749823200@rock95.com
SUMMARY:Garage Sale - 2 Elm Court\, Beeton
DESCRIPTION:Something for everyone. \nKitchen \nClothes \nCamping \nToys \nBooks \nGardening
URL:https://rock95.com/event/garage-sale-2-elm-court-beeton/
CATEGORIES:Garage Sales
END:VEVENT
BEGIN:VEVENT
DTSTART;TZID=America/Toronto:20250613T080000
DTEND;TZID=America/Toronto:20250613T120000
DTSTAMP:20260423T062009
CREATED:20250613T204014Z
LAST-MODIFIED:20250613T204014Z
UID:10000842-1749801600-1749816000@rock95.com
SUMMARY:Orillia Multi Family Garage Sale - Carmichael Court\, Orillia
DESCRIPTION:Carmichael Court\, Orillia \nfrom 8am to 12pm \na little bit of everything.
URL:https://rock95.com/event/orillia-multi-family-garage-sale-carmichael-court-orillia/
CATEGORIES:Garage Sales
END:VEVENT
BEGIN:VEVENT
DTSTART;TZID=America/Toronto:20250608T080000
DTEND;TZID=America/Toronto:20250608T130000
DTSTAMP:20260423T062009
CREATED:20250606T202933Z
LAST-MODIFIED:20250606T202933Z
UID:10000824-1749369600-1749387600@rock95.com
SUMMARY:Yard Sale - 16 Mill St\, Angus
DESCRIPTION:Saturday June 7 and Sunday June 8 \n8am-1pm \nyard sale at 16 Mill street Angus \nacross the street from the high school!
URL:https://rock95.com/event/yard-sale-16-mill-st-angus/2025-06-08/
CATEGORIES:Garage Sales
END:VEVENT
BEGIN:VEVENT
DTSTART;TZID=America/Toronto:20250608T080000
DTEND;TZID=America/Toronto:20250608T130000
DTSTAMP:20260423T062009
CREATED:20250602T194118Z
LAST-MODIFIED:20250602T194118Z
UID:10000809-1749369600-1749387600@rock95.com
SUMMARY:Yard Sale - 261 Wellington Street East\, Barrie
DESCRIPTION:See more details on Kijiji ad!
URL:https://rock95.com/event/yard-sale-261-wellington-street-east-barrie/2025-06-08/
CATEGORIES:Garage Sales
END:VEVENT
BEGIN:VEVENT
DTSTART;TZID=America/Toronto:20250607T090000
DTEND;TZID=America/Toronto:20250607T120000
DTSTAMP:20260423T062009
CREATED:20250611T202226Z
LAST-MODIFIED:20250611T202226Z
UID:10000828-1749286800-1749297600@rock95.com
SUMMARY:Garage Sale - 3565 3rd Line\, Cookstown
DESCRIPTION:Garage Sale - 5 Side Road & 3rd Line Cookstown On your way to Wing Ding \n  \n9 Years of Kids Items. \n  \n 
URL:https://rock95.com/event/garage-sale-3565-3rd-line-cookstown/
CATEGORIES:Garage Sales
ATTACH;FMTTYPE=image/jpeg:https://rock95.com/cobPub/uploads/2025/06/505229630_1370305990708808_5472125193444741429_n.jpg
END:VEVENT
BEGIN:VEVENT
DTSTART;TZID=America/Toronto:20250607T080000
DTEND;TZID=America/Toronto:20250607T130000
DTSTAMP:20260423T062009
CREATED:20250611T202058Z
LAST-MODIFIED:20250611T202058Z
UID:10000827-1749283200-1749301200@rock95.com
SUMMARY:Garage Sale - 117 Taylor Dr\, Barrie
DESCRIPTION:117 Taylor drive \n8Am \nSaturday June 7
URL:https://rock95.com/event/garage-sale-117-taylor-dr-barrie/
CATEGORIES:Garage Sales
END:VEVENT
BEGIN:VEVENT
DTSTART;TZID=America/Toronto:20250607T080000
DTEND;TZID=America/Toronto:20250607T130000
DTSTAMP:20260423T062009
CREATED:20250606T202933Z
LAST-MODIFIED:20250606T202933Z
UID:10000823-1749283200-1749301200@rock95.com
SUMMARY:Yard Sale - 16 Mill St\, Angus
DESCRIPTION:Saturday June 7 and Sunday June 8 \n8am-1pm \nyard sale at 16 Mill street Angus \nacross the street from the high school!
URL:https://rock95.com/event/yard-sale-16-mill-st-angus/2025-06-07/
CATEGORIES:Garage Sales
END:VEVENT
BEGIN:VEVENT
DTSTART;TZID=America/Toronto:20250607T080000
DTEND;TZID=America/Toronto:20250607T130000
DTSTAMP:20260423T062009
CREATED:20250602T194118Z
LAST-MODIFIED:20250602T194118Z
UID:10000808-1749283200-1749301200@rock95.com
SUMMARY:Yard Sale - 261 Wellington Street East\, Barrie
DESCRIPTION:See more details on Kijiji ad!
URL:https://rock95.com/event/yard-sale-261-wellington-street-east-barrie/2025-06-07/
CATEGORIES:Garage Sales
END:VEVENT
BEGIN:VEVENT
DTSTART;TZID=America/Toronto:20250607T080000
DTEND;TZID=America/Toronto:20250607T130000
DTSTAMP:20260423T062009
CREATED:20250602T193913Z
LAST-MODIFIED:20250602T193913Z
UID:10000807-1749283200-1749301200@rock95.com
SUMMARY:Garage Sale - 11 Henry Ball Court\, Warminster
DESCRIPTION:*Rain or Shine*\nHousehold items\, antiques and gardening tools.
URL:https://rock95.com/event/garage-sale-11-henry-ball-court-warminster/
CATEGORIES:Garage Sales
END:VEVENT
BEGIN:VEVENT
DTSTART;TZID=America/Toronto:20250607T080000
DTEND;TZID=America/Toronto:20250607T130000
DTSTAMP:20260423T062009
CREATED:20250527T202045Z
LAST-MODIFIED:20250527T202045Z
UID:10000766-1749283200-1749301200@rock95.com
SUMMARY:Garage Sale - 28 Kelsey Crescent\, Barrie
DESCRIPTION:Sale includes tools toys sporting goods and housewares ect
URL:https://rock95.com/event/garage-sale-28-kelsey-crescent-barrie/
CATEGORIES:Garage Sales
END:VEVENT
END:VCALENDAR