BEGIN:VCALENDAR
VERSION:2.0
PRODID:-//Rock 95 - ECPv6.15.16//NONSGML v1.0//EN
CALSCALE:GREGORIAN
METHOD:PUBLISH
X-WR-CALNAME:Rock 95
X-ORIGINAL-URL:https://rock95.com
X-WR-CALDESC:Events for Rock 95
REFRESH-INTERVAL;VALUE=DURATION:PT1H
X-Robots-Tag:noindex
X-PUBLISHED-TTL:PT1H
BEGIN:VTIMEZONE
TZID:America/Toronto
BEGIN:DAYLIGHT
TZOFFSETFROM:-0500
TZOFFSETTO:-0400
TZNAME:EDT
DTSTART:20230312T070000
END:DAYLIGHT
BEGIN:STANDARD
TZOFFSETFROM:-0400
TZOFFSETTO:-0500
TZNAME:EST
DTSTART:20231105T060000
END:STANDARD
BEGIN:DAYLIGHT
TZOFFSETFROM:-0500
TZOFFSETTO:-0400
TZNAME:EDT
DTSTART:20240310T070000
END:DAYLIGHT
BEGIN:STANDARD
TZOFFSETFROM:-0400
TZOFFSETTO:-0500
TZNAME:EST
DTSTART:20241103T060000
END:STANDARD
BEGIN:DAYLIGHT
TZOFFSETFROM:-0500
TZOFFSETTO:-0400
TZNAME:EDT
DTSTART:20250309T070000
END:DAYLIGHT
BEGIN:STANDARD
TZOFFSETFROM:-0400
TZOFFSETTO:-0500
TZNAME:EST
DTSTART:20251102T060000
END:STANDARD
END:VTIMEZONE
BEGIN:VEVENT
DTSTART;TZID=America/Toronto:20240727T000000
DTEND;TZID=America/Toronto:20240727T000000
DTSTAMP:20260426T000527
CREATED:20240722T145800Z
LAST-MODIFIED:20240722T145800Z
UID:10000200-1722038400-1722038400@rock95.com
SUMMARY:61 Westminster Circle\, Barrie
DESCRIPTION:Moving sale - kitchen stuff\, baking items\, household items\, bench\, linens\, tv\, books\,
URL:https://rock95.com/event/61-westminster-circle-barrie/
LOCATION:61 Westminster Circle\, 61 Westminster Circle\, Barrie\, Ontario\, L4M0A5\, Canada
CATEGORIES:Garage Sales
END:VEVENT
BEGIN:VEVENT
DTSTART;TZID=America/Toronto:20240720T090000
DTEND;TZID=America/Toronto:20240720T150000
DTSTAMP:20260426T000527
CREATED:20240717T134223Z
LAST-MODIFIED:20240717T134223Z
UID:10000189-1721466000-1721487600@rock95.com
SUMMARY:148 Cunningham Dr\, Barrie
DESCRIPTION:Garage Sale! A large variety of stuff available!
URL:https://rock95.com/event/148-cunningham-dr-barrie/
CATEGORIES:Garage Sales
ATTACH;FMTTYPE=image/png:https://rock95.com/cobPub/uploads/2024/07/Rock95garageslider-990x495-1.png
END:VEVENT
BEGIN:VEVENT
DTSTART;TZID=America/Toronto:20240720T090000
DTEND;TZID=America/Toronto:20240720T150000
DTSTAMP:20260426T000527
CREATED:20240710T181234Z
LAST-MODIFIED:20240710T181234Z
UID:10000166-1721466000-1721487600@rock95.com
SUMMARY:93 Lake Shore Rd W\, Oro Station
DESCRIPTION:Huge Garage/Estate Sale!\nCollectibles\, Antiques\, toys\, sporting equipment\, furniture\, Copper mailboxes\, Antique glass and much more!
URL:https://rock95.com/event/93-lake-shore-rd-w-oro-station/
CATEGORIES:Garage Sales
END:VEVENT
BEGIN:VEVENT
DTSTART;TZID=America/Toronto:20240720T080000
DTEND;TZID=America/Toronto:20240720T150000
DTSTAMP:20260426T000527
CREATED:20240718T201145Z
LAST-MODIFIED:20240718T201145Z
UID:10000195-1721462400-1721487600@rock95.com
SUMMARY:Street Sale - Arthur Street Collingwood - Multiple Garage Sales
DESCRIPTION:GARAGE SALE – 16 ARTHUR Street\, Collingwood \nSaturday\, July 20th \nStreet Sale – Multiple homes on the street are having garage sales \nSomething for everyone. \n\nCamping gear\nCanoe\nFurniture\nAppliances\nSmall Appliances\nHousehold items\nCollectables\nGarden Items\nBooks\nSewing Material and items\n\nArthur Street – off Beachwood (old HWY 26) between Tire Guys and McLaughlin Wreckers. \n 
URL:https://rock95.com/event/street-sale-arthur-street-collingwood-multiple-garage-sales/
CATEGORIES:Garage Sales
END:VEVENT
BEGIN:VEVENT
DTSTART;TZID=America/Toronto:20240720T080000
DTEND;TZID=America/Toronto:20240720T130000
DTSTAMP:20260426T000527
CREATED:20240718T185145Z
LAST-MODIFIED:20240718T185227Z
UID:10000192-1721462400-1721480400@rock95.com
SUMMARY:19 Hodgson Dr\, Barrie
DESCRIPTION:Retirement Sale \nMen’s clothing\, casual\, business casual\, shirts\, pants\, shoes\, ties\, etc.\n\nWork gloves\, industrial tape\, safety gear\n\nChildren’s items (Pack n Play\, diaper genie\, toys\, etc)\n\nPet items
URL:https://rock95.com/event/19-hodgson-drive-garage-sale/
CATEGORIES:Garage Sales
END:VEVENT
BEGIN:VEVENT
DTSTART;TZID=America/Toronto:20240720T070000
DTEND;TZID=America/Toronto:20240720T140000
DTSTAMP:20260426T000527
CREATED:20240718T201019Z
LAST-MODIFIED:20240718T201019Z
UID:10000194-1721458800-1721484000@rock95.com
SUMMARY:66 Bronte Cres\, Barrie
DESCRIPTION:Garage Sale\, something for everyone\, furniture\, everyday items\, toys\, tools\, everyone welcome
URL:https://rock95.com/event/66-bronte-cres-barrie/
CATEGORIES:Garage Sales
END:VEVENT
BEGIN:VEVENT
DTSTART;TZID=America/Toronto:20240720T070000
DTEND;TZID=America/Toronto:20240720T130000
DTSTAMP:20260426T000527
CREATED:20240719T185601Z
LAST-MODIFIED:20240719T185601Z
UID:10000197-1721458800-1721480400@rock95.com
SUMMARY:123 Nicholson Dr\, Barrie
DESCRIPTION:Household items\, women's clothes\, knickknacks\, porcelain dolls\, dishes\, odds and ends.
URL:https://rock95.com/event/123-nicholson-dr-barrie/
CATEGORIES:Garage Sales
END:VEVENT
BEGIN:VEVENT
DTSTART;TZID=America/Toronto:20240719T073000
DTEND;TZID=America/Toronto:20240719T130000
DTSTAMP:20260426T000527
CREATED:20240719T185842Z
LAST-MODIFIED:20240719T185842Z
UID:10000198-1721374200-1721394000@rock95.com
SUMMARY:42 Leslie Ave\, Barrie
DESCRIPTION:A little bit of everything. New and used items.
URL:https://rock95.com/event/42-leslie-ave-barrie/
CATEGORIES:Garage Sales
END:VEVENT
BEGIN:VEVENT
DTSTART;TZID=America/Toronto:20240714T090000
DTEND;TZID=America/Toronto:20240714T150000
DTSTAMP:20260426T000527
CREATED:20240710T182326Z
LAST-MODIFIED:20240710T182326Z
UID:10000173-1720947600-1720969200@rock95.com
SUMMARY:Knicely Rd\, Barrie
DESCRIPTION:4 or more houses participating on July 13 14\nKnicley road barrie.
URL:https://rock95.com/event/knicely-rd-barrie/2024-07-14/
CATEGORIES:Garage Sales
END:VEVENT
BEGIN:VEVENT
DTSTART;TZID=America/Toronto:20240714T080000
DTEND;TZID=America/Toronto:20240714T160000
DTSTAMP:20260426T000527
CREATED:20240710T181546Z
LAST-MODIFIED:20240710T181546Z
UID:10000171-1720944000-1720972800@rock95.com
SUMMARY:13 Weatherup Cres\, Barrie
DESCRIPTION:Moving sale selling plenty of useful stuff for around the house\, and a bunch of party stuff \,will also be some hot-dog and drinks for sale on site só bring the family and check it out !!
URL:https://rock95.com/event/13-weatherup-cres-barrie/2024-07-14/
CATEGORIES:Garage Sales
END:VEVENT
BEGIN:VEVENT
DTSTART;TZID=America/Toronto:20240714T080000
DTEND;TZID=America/Toronto:20240714T140000
DTSTAMP:20260426T000527
CREATED:20240710T065814Z
LAST-MODIFIED:20240710T065814Z
UID:10000159-1720944000-1720965600@rock95.com
SUMMARY:155 Oren Blvd\, Barrie
DESCRIPTION:Moving sale\, everything must go. Dining sets\, electric Recliner\, excellent\, practically new\, dining set with cabinet\, kitchen table with chairs\, camping chairs\, tents\, clothes\, black leather I-pong chair from IKEA\, double and queen size beds (furniture ready to go. You need to pick it up and provide your own transportation.)
URL:https://rock95.com/event/155-oren-blvd-barrie/
CATEGORIES:Garage Sales
END:VEVENT
BEGIN:VEVENT
DTSTART;TZID=America/Toronto:20240714T080000
DTEND;TZID=America/Toronto:20240714T130000
DTSTAMP:20260426T000527
CREATED:20240710T065639Z
LAST-MODIFIED:20240710T065639Z
UID:10000157-1720944000-1720962000@rock95.com
SUMMARY:44 Starboard Circle\, Wasaga Beach
DESCRIPTION:Garage/moving sale...lots of household items indoor and outdoor. Saturday July 13 from 8-4 PM\, Sunday July 14 from 8-1 PM
URL:https://rock95.com/event/44-starboard-circle-wasaga-beach/2024-07-14/
CATEGORIES:Garage Sales
END:VEVENT
BEGIN:VEVENT
DTSTART;TZID=America/Toronto:20240713T090000
DTEND;TZID=America/Toronto:20240713T150000
DTSTAMP:20260426T000527
CREATED:20240710T182326Z
LAST-MODIFIED:20240710T182326Z
UID:10000172-1720861200-1720882800@rock95.com
SUMMARY:Knicely Rd\, Barrie
DESCRIPTION:4 or more houses participating on July 13 14\nKnicley road barrie.
URL:https://rock95.com/event/knicely-rd-barrie/2024-07-13/
CATEGORIES:Garage Sales
END:VEVENT
BEGIN:VEVENT
DTSTART;TZID=America/Toronto:20240713T080000
DTEND;TZID=America/Toronto:20240713T160000
DTSTAMP:20260426T000527
CREATED:20240710T181546Z
LAST-MODIFIED:20240710T181546Z
UID:10000170-1720857600-1720886400@rock95.com
SUMMARY:13 Weatherup Cres\, Barrie
DESCRIPTION:Moving sale selling plenty of useful stuff for around the house\, and a bunch of party stuff \,will also be some hot-dog and drinks for sale on site só bring the family and check it out !!
URL:https://rock95.com/event/13-weatherup-cres-barrie/2024-07-13/
CATEGORIES:Garage Sales
END:VEVENT
BEGIN:VEVENT
DTSTART;TZID=America/Toronto:20240713T080000
DTEND;TZID=America/Toronto:20240713T160000
DTSTAMP:20260426T000527
CREATED:20240710T065639Z
LAST-MODIFIED:20240710T065639Z
UID:10000156-1720857600-1720886400@rock95.com
SUMMARY:44 Starboard Circle\, Wasaga Beach
DESCRIPTION:Garage/moving sale...lots of household items indoor and outdoor. Saturday July 13 from 8-4 PM\, Sunday July 14 from 8-1 PM
URL:https://rock95.com/event/44-starboard-circle-wasaga-beach/2024-07-13/
CATEGORIES:Garage Sales
END:VEVENT
BEGIN:VEVENT
DTSTART;TZID=America/Toronto:20240713T080000
DTEND;TZID=America/Toronto:20240713T150000
DTSTAMP:20260426T000527
CREATED:20240710T182755Z
LAST-MODIFIED:20240710T182755Z
UID:10000176-1720857600-1720882800@rock95.com
SUMMARY:5 Brighton Rd\, Barrie
DESCRIPTION:Family Garage Sale+\nLarge assortment of items including books\, golf items\, fishing items\, hydroponic growing tent set up\, freestanding punching bag\, funko pops\, lots of home decor and wall hangings\, games\, brand new small appliances\, clothing\, xmas trees and items and much more!!
URL:https://rock95.com/event/5-brighton-rd-barrie/
CATEGORIES:Garage Sales
END:VEVENT
BEGIN:VEVENT
DTSTART;TZID=America/Toronto:20240713T080000
DTEND;TZID=America/Toronto:20240713T150000
DTSTAMP:20260426T000528
CREATED:20240710T065728Z
LAST-MODIFIED:20240710T065728Z
UID:10000158-1720857600-1720882800@rock95.com
SUMMARY:5 Brighton Road\, Barrie
DESCRIPTION:Family Garage Sale+ Large assortment of items including books\, golf items\, fishing items\, hydroponic growing tent set up\, freestanding punching bag\, funko pops\, lots of home decor and wall hangings\, games\, brand new small appliances\, clothing\, xmas trees and items and much more!!
URL:https://rock95.com/event/5-brighton-road-barrie/
CATEGORIES:Garage Sales
END:VEVENT
BEGIN:VEVENT
DTSTART;TZID=America/Toronto:20240713T080000
DTEND;TZID=America/Toronto:20240713T130000
DTSTAMP:20260426T000528
CREATED:20240710T181435Z
LAST-MODIFIED:20240710T181435Z
UID:10000168-1720857600-1720875600@rock95.com
SUMMARY:200 Muriel St\, Shelbourne
DESCRIPTION:Paintball equipment\, martial arts equipment\, household items\, toys and tons of electronic parts
URL:https://rock95.com/event/200-muriel-st-shelbourne/
CATEGORIES:Garage Sales
END:VEVENT
BEGIN:VEVENT
DTSTART;TZID=America/Toronto:20240713T080000
DTEND;TZID=America/Toronto:20240713T120000
DTSTAMP:20260426T000528
CREATED:20240710T182535Z
LAST-MODIFIED:20240710T182535Z
UID:10000174-1720857600-1720872000@rock95.com
SUMMARY:Michael & Alessio St\, Angus
DESCRIPTION:Community yard sale\nLots for everyone\nIn the Michael Street subdivision
URL:https://rock95.com/event/michael-alessio-st-angus/
CATEGORIES:Garage Sales
END:VEVENT
BEGIN:VEVENT
DTSTART;TZID=America/Toronto:20240713T073000
DTEND;TZID=America/Toronto:20240713T140000
DTSTAMP:20260426T000528
CREATED:20240710T181336Z
LAST-MODIFIED:20240710T181336Z
UID:10000167-1720855800-1720879200@rock95.com
SUMMARY:98 Huronia Rd\, Barrie
DESCRIPTION:TONS OF DISHES\, POTS\,PANS\,GAMES\,ELECTRONICS\, SMALL APPLIANCES ETC.\nALL BOOKS\, CDS\, AND DVDS -$1\nLOTS OF OTHER STUFF\, SOME THINGS BRAND NEW!!
URL:https://rock95.com/event/98-huronia-rd-barrie/
CATEGORIES:Garage Sales
END:VEVENT
BEGIN:VEVENT
DTSTART;TZID=America/Toronto:20240712T090000
DTEND;TZID=America/Toronto:20240712T170000
DTSTAMP:20260426T000528
CREATED:20240710T182704Z
LAST-MODIFIED:20240710T182704Z
UID:10000175-1720774800-1720803600@rock95.com
SUMMARY:200 Lipchey Rd\, Holland Marsh Newmarket
DESCRIPTION:We will be selling auto parts\, power tools\, home renovation items \, home decor\, electronics\, phone cases\, toys\, games\, antiques\, vintage items\, lawn equipment and much more!
URL:https://rock95.com/event/200-lipchey-rd-holland-marsh-newmarket/
CATEGORIES:Garage Sales
END:VEVENT
BEGIN:VEVENT
DTSTART;TZID=America/Toronto:20240712T080000
DTEND;TZID=America/Toronto:20240712T160000
DTSTAMP:20260426T000528
CREATED:20240710T181546Z
LAST-MODIFIED:20240710T181546Z
UID:10000169-1720771200-1720800000@rock95.com
SUMMARY:13 Weatherup Cres\, Barrie
DESCRIPTION:Moving sale selling plenty of useful stuff for around the house\, and a bunch of party stuff \,will also be some hot-dog and drinks for sale on site só bring the family and check it out !!
URL:https://rock95.com/event/13-weatherup-cres-barrie/2024-07-12/
CATEGORIES:Garage Sales
END:VEVENT
END:VCALENDAR