BEGIN:VCALENDAR
VERSION:2.0
PRODID:-//Rock 95 - ECPv6.15.16//NONSGML v1.0//EN
CALSCALE:GREGORIAN
METHOD:PUBLISH
X-WR-CALNAME:Rock 95
X-ORIGINAL-URL:https://rock95.com
X-WR-CALDESC:Events for Rock 95
REFRESH-INTERVAL;VALUE=DURATION:PT1H
X-Robots-Tag:noindex
X-PUBLISHED-TTL:PT1H
BEGIN:VTIMEZONE
TZID:America/Toronto
BEGIN:DAYLIGHT
TZOFFSETFROM:-0500
TZOFFSETTO:-0400
TZNAME:EDT
DTSTART:20230312T070000
END:DAYLIGHT
BEGIN:STANDARD
TZOFFSETFROM:-0400
TZOFFSETTO:-0500
TZNAME:EST
DTSTART:20231105T060000
END:STANDARD
BEGIN:DAYLIGHT
TZOFFSETFROM:-0500
TZOFFSETTO:-0400
TZNAME:EDT
DTSTART:20240310T070000
END:DAYLIGHT
BEGIN:STANDARD
TZOFFSETFROM:-0400
TZOFFSETTO:-0500
TZNAME:EST
DTSTART:20241103T060000
END:STANDARD
BEGIN:DAYLIGHT
TZOFFSETFROM:-0500
TZOFFSETTO:-0400
TZNAME:EDT
DTSTART:20250309T070000
END:DAYLIGHT
BEGIN:STANDARD
TZOFFSETFROM:-0400
TZOFFSETTO:-0500
TZNAME:EST
DTSTART:20251102T060000
END:STANDARD
END:VTIMEZONE
BEGIN:VEVENT
DTSTART;TZID=America/Toronto:20240901T070000
DTEND;TZID=America/Toronto:20240901T120000
DTSTAMP:20260425T191232
CREATED:20240826T170855Z
LAST-MODIFIED:20240826T170855Z
UID:10000245-1725174000-1725192000@rock95.com
SUMMARY:1006 Glen Eagles Cres\, Midland
DESCRIPTION:2-day garage sale of entire home! Items will include kitchen supplies\, tools\, furniture\, toys and more!
URL:https://rock95.com/event/1006-glen-eagles-cres-midland/2024-09-01/
CATEGORIES:Garage Sales
END:VEVENT
BEGIN:VEVENT
DTSTART;TZID=America/Toronto:20240831T090000
DTEND;TZID=America/Toronto:20240901T150000
DTSTAMP:20260425T191232
CREATED:20240826T170952Z
LAST-MODIFIED:20240826T172809Z
UID:10000246-1725094800-1725202800@rock95.com
SUMMARY:6126 4th Line N\, Vasey
DESCRIPTION:Tools\, hunting\, fishing\, books\, tools\, household items\, plus\, plus.
URL:https://rock95.com/event/garage-sale-labour-day-weekend/2024-08-31/
CATEGORIES:Garage Sales
END:VEVENT
BEGIN:VEVENT
DTSTART;TZID=America/Toronto:20240831T080000
DTEND;TZID=America/Toronto:20240902T120000
DTSTAMP:20260425T191232
CREATED:20240829T171010Z
LAST-MODIFIED:20240829T171010Z
UID:10000255-1725091200-1725278400@rock95.com
SUMMARY:138 Oren Blvd\, Barrie
DESCRIPTION:Large Garage/ Moving Sale. Lots of tools\, snowmobile\, household stuff\, sports equipment\, puzzles an games\, and toys. Something for everyone!
URL:https://rock95.com/event/138-oren-blvd-barrie/2024-08-31/
CATEGORIES:Garage Sales
END:VEVENT
BEGIN:VEVENT
DTSTART;TZID=America/Toronto:20240831T080000
DTEND;TZID=America/Toronto:20240901T120000
DTSTAMP:20260425T191232
CREATED:20240828T133610Z
LAST-MODIFIED:20240828T133610Z
UID:10000251-1725091200-1725192000@rock95.com
SUMMARY:355 Edgehill Dr\, Barrie
DESCRIPTION:There are so much clothes from baby  to adults we'll love & really good condition\, shoes\,  toys\, kitchenware\, school supplies\, lemonade stand for $1/cup and soooo much more. I have lupus for over 20 years so my family agreed will donate some money to lupus foundation.
URL:https://rock95.com/event/355-edgehill-dr-barrie/
CATEGORIES:Garage Sales
END:VEVENT
BEGIN:VEVENT
DTSTART;TZID=America/Toronto:20240831T080000
DTEND;TZID=America/Toronto:20240831T150000
DTSTAMP:20260425T191232
CREATED:20240827T175656Z
LAST-MODIFIED:20240827T175656Z
UID:10000249-1725091200-1725116400@rock95.com
SUMMARY:208 Cumming Dr\, Barrie
DESCRIPTION:Sale of mostly tools\, ladders \, wheel barrow . Everything must go \, very reasonable prices
URL:https://rock95.com/event/208-cumming-dr-barrie/
CATEGORIES:Garage Sales
END:VEVENT
BEGIN:VEVENT
DTSTART;TZID=America/Toronto:20240831T080000
DTEND;TZID=America/Toronto:20240831T140000
DTSTAMP:20260425T191232
CREATED:20240828T133412Z
LAST-MODIFIED:20240828T133412Z
UID:10000250-1725091200-1725112800@rock95.com
SUMMARY:11 Wesley St\, Barrie
DESCRIPTION:Saturday August 31\, 2024 \n8am to 2pm \nLoads of household items\, artwork\, crystal\, serving ware\, tools\, appliances and more! \n11Wesley Street\, Barrie (Sunnidale area)
URL:https://rock95.com/event/11-wesley-st-barrie/
CATEGORIES:Garage Sales
END:VEVENT
BEGIN:VEVENT
DTSTART;TZID=America/Toronto:20240831T080000
DTEND;TZID=America/Toronto:20240831T140000
DTSTAMP:20260425T191232
CREATED:20240827T175556Z
LAST-MODIFIED:20240827T175556Z
UID:10000248-1725091200-1725112800@rock95.com
SUMMARY:299 Albert St\,  Victoria Harbour
DESCRIPTION:Join us for the First Annual Masonic Community Yard Sale at the Bayport Masonic Temple! This is a fantastic opportunity to find great deals on a wide variety of gently used items while supporting local causes. Our Masons are coming together to offer their treasures\, and all proceeds will go back to our community and local charities. \n\n\nWhether you’re hunting for bargains\, curious about Freemasonry\, or want to spend a pleasant day with your neighbours\, this event is for you! The yard sale will occur on Saturday\, August 31st\, from 8:00 AM to 2:00 PM at the Bayport Masonic Temple\, 229 Albert St\, Victoria Harbour\, ON L0K 2A0. \n\nDon’t miss out on this community gathering—come for the deals\, stay for the brothership.
URL:https://rock95.com/event/299-albert-st-victoria-harbour/
CATEGORIES:Garage Sales
END:VEVENT
BEGIN:VEVENT
DTSTART;TZID=America/Toronto:20240831T080000
DTEND;TZID=America/Toronto:20240831T130000
DTSTAMP:20260425T191232
CREATED:20240828T160346Z
LAST-MODIFIED:20240828T160346Z
UID:10000252-1725091200-1725109200@rock95.com
SUMMARY:164 Diana Dr\, Orillia
DESCRIPTION:Donation garage sale\, all proceeds go to Ralphy's Retreat Animal Sanctuary. \nToys\, Royal Dalton Dishes\, Household goods and much much more.
URL:https://rock95.com/event/164-diana-dr-orillia/
CATEGORIES:Garage Sales
END:VEVENT
BEGIN:VEVENT
DTSTART;TZID=America/Toronto:20240831T070000
DTEND;TZID=America/Toronto:20240901T120000
DTSTAMP:20260425T191232
CREATED:20240826T170855Z
LAST-MODIFIED:20240826T170855Z
UID:10000244-1725087600-1725192000@rock95.com
SUMMARY:1006 Glen Eagles Cres\, Midland
DESCRIPTION:2-day garage sale of entire home! Items will include kitchen supplies\, tools\, furniture\, toys and more!
URL:https://rock95.com/event/1006-glen-eagles-cres-midland/2024-08-31/
CATEGORIES:Garage Sales
END:VEVENT
BEGIN:VEVENT
DTSTART;TZID=America/Toronto:20240825T080000
DTEND;TZID=America/Toronto:20240825T150000
DTSTAMP:20260425T191232
CREATED:20240821T134254Z
LAST-MODIFIED:20240821T134448Z
UID:10000242-1724572800-1724598000@rock95.com
SUMMARY:38 Master Dr\, Barrie
DESCRIPTION:38 Masters Drive\, Barrie \nSunday August 25th @8am \nHigh end home audio\, car audio\, home decor\, name brand clothing\, and more.
URL:https://rock95.com/event/38-master-dr-barrie/
CATEGORIES:Garage Sales
END:VEVENT
BEGIN:VEVENT
DTSTART;TZID=America/Toronto:20240824T080000
DTEND;TZID=America/Toronto:20240824T120000
DTSTAMP:20260425T191232
CREATED:20240819T144914Z
LAST-MODIFIED:20240821T204745Z
UID:10000241-1724486400-1724500800@rock95.com
SUMMARY:25 & 27 Succession Crescent\, Barrie
DESCRIPTION:Two Family Garage and Moving Sale.  Many items too good to pass up!  25 and 27 Succession Crescent. See you soon!
URL:https://rock95.com/event/26-succession-crescent-barrie/
CATEGORIES:Garage Sales
END:VEVENT
BEGIN:VEVENT
DTSTART;TZID=America/Toronto:20240818T080000
DTEND;TZID=America/Toronto:20240818T170000
DTSTAMP:20260425T191232
CREATED:20240816T170644Z
LAST-MODIFIED:20240816T170644Z
UID:10000239-1723968000-1724000400@rock95.com
SUMMARY:20 Grace Cres\, Barrie
DESCRIPTION:Great Big Moving Sale - Saturday the 17th and Sunday the 18th at 20 Grace Crescent. Rain or shine - items will be available inside the home and garage if raining. 8 a.m. to 8 p.m. both Saturday and Sunday. Come find furniture\, clothing\, books and electronics. Cash and e-transfer will be accepted!
URL:https://rock95.com/event/20-grace-cres-barrie/2024-08-18/
CATEGORIES:Garage Sales
END:VEVENT
BEGIN:VEVENT
DTSTART;TZID=America/Toronto:20240817T100000
DTEND;TZID=America/Toronto:20240817T200000
DTSTAMP:20260425T191232
CREATED:20240816T170644Z
LAST-MODIFIED:20240816T170644Z
UID:10000238-1723888800-1723924800@rock95.com
SUMMARY:20 Grace Cres\, Barrie
DESCRIPTION:Great Big Moving Sale - Saturday the 17th and Sunday the 18th at 20 Grace Crescent. Rain or shine - items will be available inside the home and garage if raining. 8 a.m. to 8 p.m. both Saturday and Sunday. Come find furniture\, clothing\, books and electronics. Cash and e-transfer will be accepted!
URL:https://rock95.com/event/20-grace-cres-barrie/2024-08-17/
CATEGORIES:Garage Sales
END:VEVENT
BEGIN:VEVENT
DTSTART;TZID=America/Toronto:20240817T090000
DTEND;TZID=America/Toronto:20240817T120000
DTSTAMP:20260425T191232
CREATED:20240816T170553Z
LAST-MODIFIED:20240816T170553Z
UID:10000237-1723885200-1723896000@rock95.com
SUMMARY:13 Compton Dr\, Barrie
DESCRIPTION:Garage sale something for everyone all proceed go to Christmas cheer
URL:https://rock95.com/event/13-compton-dr-barrie/
CATEGORIES:Garage Sales
END:VEVENT
BEGIN:VEVENT
DTSTART;TZID=America/Toronto:20240817T080000
DTEND;TZID=America/Toronto:20240817T160000
DTSTAMP:20260425T191232
CREATED:20240808T170128Z
LAST-MODIFIED:20240808T170128Z
UID:10000224-1723881600-1723910400@rock95.com
SUMMARY:10 Ginger Dr\, Barrie
DESCRIPTION:Huge (Online Store) Blow-Out Sale \n1 day only!!!!  Lots of great stuff! Something for Everyone! \nLarge selection of New Bathing Suits\, Shoes\, Tools\, House wears\, Pet Supplies\, Kids\, Electronics and much More......
URL:https://rock95.com/event/10-ginger-dr-barrie/
CATEGORIES:Garage Sales
END:VEVENT
BEGIN:VEVENT
DTSTART;TZID=America/Toronto:20240817T080000
DTEND;TZID=America/Toronto:20240817T150000
DTSTAMP:20260425T191232
CREATED:20240813T134931Z
LAST-MODIFIED:20240813T134931Z
UID:10000229-1723881600-1723906800@rock95.com
SUMMARY:TEACHER GARAGE SALE AND MORE!
DESCRIPTION:Two-Family Garage this Saturday August 17th. Education items including organizational materials\, books\, posters/bulletin board materials\, manipulatives and more! Some large items (couch\, tables\, etc).
URL:https://rock95.com/event/teacher-garage-sale-and-more/
CATEGORIES:Garage Sales
END:VEVENT
BEGIN:VEVENT
DTSTART;TZID=America/Toronto:20240817T080000
DTEND;TZID=America/Toronto:20240817T120000
DTSTAMP:20260425T191232
CREATED:20240816T195440Z
LAST-MODIFIED:20240816T195440Z
UID:10000240-1723881600-1723896000@rock95.com
SUMMARY:49 Truman Rd\, Barrie
DESCRIPTION:INDOOR Garage Sale\nAug 17th 8am-12pm\n49 Truman Rd Barrie\naround back\n  \n 
URL:https://rock95.com/event/49-truman-rd-barrie/
CATEGORIES:Garage Sales
END:VEVENT
BEGIN:VEVENT
DTSTART;TZID=America/Toronto:20240817T080000
DTEND;TZID=America/Toronto:20240817T120000
DTSTAMP:20260425T191232
CREATED:20240813T135002Z
LAST-MODIFIED:20240813T135002Z
UID:10000230-1723881600-1723896000@rock95.com
SUMMARY:Garage Sale
DESCRIPTION:Garage Sale --- Aug 17th 8am-12pm \n49 Truman Rd  Barrie \nat the back \n  \nrain or shine
URL:https://rock95.com/event/garage-sale/
CATEGORIES:Garage Sales
END:VEVENT
BEGIN:VEVENT
DTSTART;TZID=America/Toronto:20240817T000000
DTEND;TZID=America/Toronto:20240817T235959
DTSTAMP:20260425T191232
CREATED:20240815T165010Z
LAST-MODIFIED:20240815T165010Z
UID:10000234-1723852800-1723939199@rock95.com
SUMMARY:MOVING SALE
DESCRIPTION:Moving Sale.  Everything must go.  Freezer\, sofa\, dresser\, Lazyboy recliner\, appliances\, much\, much more.
URL:https://rock95.com/event/moving-sale/
LOCATION:263 Crawford Street\, 263 Crawford Street\, Orillia\, Ontario\, L3V 1J9\, Canada
CATEGORIES:Garage Sales
ATTACH;FMTTYPE=image/png:https://rock95.com/cobPub/uploads/2024/07/Rock95garageslider.png
END:VEVENT
BEGIN:VEVENT
DTSTART;TZID=America/Toronto:20240817T000000
DTEND;TZID=America/Toronto:20240817T000000
DTSTAMP:20260425T191232
CREATED:20240815T165137Z
LAST-MODIFIED:20240815T165137Z
UID:10000235-1723852800-1723852800@rock95.com
SUMMARY:Garage Sale
DESCRIPTION:Garage Sale \n49 Truman Rd unit 31 Barrie\naround the back\nrain or shine\nsomething for everyone
URL:https://rock95.com/event/garage-sale-2/
CATEGORIES:Garage Sales
ATTACH;FMTTYPE=image/png:https://rock95.com/cobPub/uploads/2024/07/Rock95garageslider.png
END:VEVENT
BEGIN:VEVENT
DTSTART;TZID=America/Toronto:20240810T100000
DTEND;TZID=America/Toronto:20240810T150000
DTSTAMP:20260425T191232
CREATED:20240808T165839Z
LAST-MODIFIED:20240808T165839Z
UID:10000222-1723284000-1723302000@rock95.com
SUMMARY:45 Cardinal St\, Barrie
DESCRIPTION:Garage Sale\nSaturday August 10th 8-3\n45 Cardinal St Barrie (north end). Clothes\, housewares\, car stuff\, tools\, shoes/accessories\, and more.\n👚👙🛞🖼️👟
URL:https://rock95.com/event/45-cardinal-st-barrie/
CATEGORIES:Garage Sales
END:VEVENT
BEGIN:VEVENT
DTSTART;TZID=America/Toronto:20240810T080000
DTEND;TZID=America/Toronto:20240810T130000
DTSTAMP:20260425T191232
CREATED:20240808T170053Z
LAST-MODIFIED:20240808T170053Z
UID:10000223-1723276800-1723294800@rock95.com
SUMMARY:248 Letitia St\, Barrie
DESCRIPTION:Saturday Aug. 10 2024. 248 Letitia St. Barrie On.  8 AM to 1 PM. Lots of household items\, Books\,  Knick/knacks\, Toys etc. Something for everyone.\n 
URL:https://rock95.com/event/248-letitia-st-barrie/
CATEGORIES:Garage Sales
END:VEVENT
BEGIN:VEVENT
DTSTART;TZID=America/Toronto:20240804T070000
DTEND;TZID=America/Toronto:20240804T150000
DTSTAMP:20260425T191232
CREATED:20240726T130955Z
LAST-MODIFIED:20240726T130955Z
UID:10000212-1722754800-1722783600@rock95.com
SUMMARY:29 Capps Drive\, Barrie
DESCRIPTION:Saturday August 3rd & Sunday August 4th - 7:00 am to 3 pm both days \nUnique antique\, vintage and household collectibles. Find that special item that will make your home or cottage unique. Life long collector selling items for the first time. Rare and unusual objects and curios. Come early for best selection. \n\nchildren's vintage table set\, rocking chair\, toys\, potty\, etc.\npress back high chair\ncurio/desk china cabinet\ndouble/single cast iron beds\ndry sink\nantique dressers\nantique side tables\nwicker rocking chair\n2 vintage world globes\, one that illuminates\nantique office lighting/floor lamps/ceiling fixtures\nantique enamel ware\nantique watering cans/gardening items\ndesigner items\n\nMuch\, Much\, More
URL:https://rock95.com/event/29-capps-drive-barrie/2024-08-04/
CATEGORIES:Garage Sales
END:VEVENT
BEGIN:VEVENT
DTSTART;TZID=America/Toronto:20240803T090000
DTEND;TZID=America/Toronto:20240803T140000
DTSTAMP:20260425T191232
CREATED:20240718T185817Z
LAST-MODIFIED:20240718T185817Z
UID:10000193-1722675600-1722693600@rock95.com
SUMMARY:It takes a Village\, Getting Edmond a Service Dog & Multi Family Yard Sale
DESCRIPTION:Come out to 168 Church St\, Schomberg on Aug 3rd to support Edmond in his efforts to now pay for Maxwells Service dog Training as he was given a puppy by a local breeder. All items are new and are sold by donation!  Please help us reach our fundraiser goal. \nThere will also be another family or two there with yard sale items. There’s something for everyone.
URL:https://rock95.com/event/it-takes-a-village-getting-edmond-a-service-dog-multi-family-yard-sale/
CATEGORIES:Garage Sales
END:VEVENT
BEGIN:VEVENT
DTSTART;TZID=America/Toronto:20240803T073000
DTEND;TZID=America/Toronto:20240803T120000
DTSTAMP:20260425T191232
CREATED:20240731T145245Z
LAST-MODIFIED:20240731T145245Z
UID:10000217-1722670200-1722686400@rock95.com
SUMMARY:3173 Bass Lake Side Rd East\, Orillia
DESCRIPTION:3173 Bass Lake Side Rd East (between West Ridge and Atlantis) \nLarge Clean out - tons of stuff \nHousehold Goods\, Home Sense Decor\, Kitchen Items\, Books\, Kids VHS\, board games\, Tools\, various garage items\, Fish tanks\,  prints\, pictures\, some furniture\, bar stools\, lamp\, coat rack\, set of drums.  Clothing\, etc. Many more items.  Come have a look and make an offer
URL:https://rock95.com/event/3173-bass-lake-side-rd-east-orillia/
CATEGORIES:Garage Sales
END:VEVENT
BEGIN:VEVENT
DTSTART;TZID=America/Toronto:20240803T070000
DTEND;TZID=America/Toronto:20240804T150000
DTSTAMP:20260425T191232
CREATED:20240726T130955Z
LAST-MODIFIED:20240726T130955Z
UID:10000211-1722668400-1722783600@rock95.com
SUMMARY:29 Capps Drive\, Barrie
DESCRIPTION:Saturday August 3rd & Sunday August 4th - 7:00 am to 3 pm both days \nUnique antique\, vintage and household collectibles. Find that special item that will make your home or cottage unique. Life long collector selling items for the first time. Rare and unusual objects and curios. Come early for best selection. \n\nchildren's vintage table set\, rocking chair\, toys\, potty\, etc.\npress back high chair\ncurio/desk china cabinet\ndouble/single cast iron beds\ndry sink\nantique dressers\nantique side tables\nwicker rocking chair\n2 vintage world globes\, one that illuminates\nantique office lighting/floor lamps/ceiling fixtures\nantique enamel ware\nantique watering cans/gardening items\ndesigner items\n\nMuch\, Much\, More
URL:https://rock95.com/event/29-capps-drive-barrie/2024-08-03/
CATEGORIES:Garage Sales
END:VEVENT
BEGIN:VEVENT
DTSTART;TZID=America/Toronto:20240728T100000
DTEND;TZID=America/Toronto:20240728T150000
DTSTAMP:20260425T191232
CREATED:20240723T183541Z
LAST-MODIFIED:20240723T183541Z
UID:10000203-1722160800-1722178800@rock95.com
SUMMARY:105 Marshall St\, Barrie
DESCRIPTION:Vintage and Retro items\, home decor\, hand tools\, lamps\, storage items
URL:https://rock95.com/event/105-marshall-st-barrie/
CATEGORIES:Garage Sales
END:VEVENT
BEGIN:VEVENT
DTSTART;TZID=America/Toronto:20240727T100000
DTEND;TZID=America/Toronto:20240727T140000
DTSTAMP:20260425T191232
CREATED:20240725T191100Z
LAST-MODIFIED:20240725T191100Z
UID:10000210-1722074400-1722088800@rock95.com
SUMMARY:Step Into A Summer Mini-Market
DESCRIPTION:Come out to Lefroy this Saturday & check out the Step into Summer mini-market! \n•Bannock Bandit will have delicious tacos & other street food. \n•Come support our young entrepreneurs with their ice cold drink stand! \n•Scentsy…who doesn’t love scentsy? \n•Kim Bath’s creations…a selection of handcrafted goodies you won’t want to miss! \n•Rainbow creations…handcrafted jewellery & more! \n•dreamzANDdoodlebeanz…all-natural dog treatz\, dog accessories\, & stuff for humans too\n(dreamzANDdoodlebeanz donates $1 from each sale to COPE service dogs) \nSwing on by & say hello!\n#SupportLocal\n#supportsmallbusiness2024
URL:https://rock95.com/event/step-into-a-summer-mini-market/
LOCATION:1175 Ewart St\, Lefroy\, 1175 Ewart St\, Lefroy\, ON\, Canada
CATEGORIES:Garage Sales
END:VEVENT
BEGIN:VEVENT
DTSTART;TZID=America/Toronto:20240727T093000
DTEND;TZID=America/Toronto:20240728T190000
DTSTAMP:20260425T191232
CREATED:20240723T183308Z
LAST-MODIFIED:20240723T183308Z
UID:10000202-1722072600-1722193200@rock95.com
SUMMARY:200 Lipchey Road\, Newmarket
DESCRIPTION:THIS IS OUT SECOND ANNUAL LIQUIDATION GARAGE SALE! We have everything from ATV's ATV accessories\, Brand new Auto Parts to Home Renovation items\, Tools to Antiques to phone cases\, Electronics\, Toys\, Games and much much more! YOU WONT WANT TO MISS OUT ON THESE GREAT DEALS💥🔖 \nCome take a look! you never know what you will find with the option of over 1000+ Items✅️Were Open from 9am to 5pm from July 12th- july 14th at 200 Lipchey Road in the Holland Marsh Don't be afraid of the long driveway‼️ rain or shine🌞🌤🌧🌩 🚨⚠️⬇️⬇️⬇️⬇️ \nDONT MISS OUT ALL ON THE DEALS‼️💥🔖July 12th-14th at 200 Lipchey Road Holland Marsh Ontario. OFF OF KEELE STREET
URL:https://rock95.com/event/200-lipchey-road-newmarket/
CATEGORIES:Garage Sales
END:VEVENT
BEGIN:VEVENT
DTSTART;TZID=America/Toronto:20240727T090000
DTEND;TZID=America/Toronto:20240727T150000
DTSTAMP:20260425T191232
CREATED:20240725T160553Z
LAST-MODIFIED:20240725T160553Z
UID:10000207-1722070800-1722092400@rock95.com
SUMMARY:43 Holland River Blvd\, Holland Landing
DESCRIPTION:Yard Sale happening in Holland Landing (East Gwillimbury\, just beside Bradford) this weekend! All sorts of exclusive limited/discontinued stock from Pampered Chef\, Vintage collectable clothing/furniture from the 40s-80s\, and other wonderful items waiting for you to discover them!
URL:https://rock95.com/event/43-holland-river-blvd-holland-landing/
CATEGORIES:Garage Sales
END:VEVENT
END:VCALENDAR