BEGIN:VCALENDAR
VERSION:2.0
PRODID:-//Rock 95 - ECPv6.15.16//NONSGML v1.0//EN
CALSCALE:GREGORIAN
METHOD:PUBLISH
X-ORIGINAL-URL:https://rock95.com
X-WR-CALDESC:Events for Rock 95
REFRESH-INTERVAL;VALUE=DURATION:PT1H
X-Robots-Tag:noindex
X-PUBLISHED-TTL:PT1H
BEGIN:VTIMEZONE
TZID:America/Toronto
BEGIN:DAYLIGHT
TZOFFSETFROM:-0500
TZOFFSETTO:-0400
TZNAME:EDT
DTSTART:20240310T070000
END:DAYLIGHT
BEGIN:STANDARD
TZOFFSETFROM:-0400
TZOFFSETTO:-0500
TZNAME:EST
DTSTART:20241103T060000
END:STANDARD
BEGIN:DAYLIGHT
TZOFFSETFROM:-0500
TZOFFSETTO:-0400
TZNAME:EDT
DTSTART:20250309T070000
END:DAYLIGHT
BEGIN:STANDARD
TZOFFSETFROM:-0400
TZOFFSETTO:-0500
TZNAME:EST
DTSTART:20251102T060000
END:STANDARD
BEGIN:DAYLIGHT
TZOFFSETFROM:-0500
TZOFFSETTO:-0400
TZNAME:EDT
DTSTART:20260308T070000
END:DAYLIGHT
BEGIN:STANDARD
TZOFFSETFROM:-0400
TZOFFSETTO:-0500
TZNAME:EST
DTSTART:20261101T060000
END:STANDARD
END:VTIMEZONE
BEGIN:VEVENT
DTSTART;TZID=America/Toronto:20250607T070000
DTEND;TZID=America/Toronto:20250607T130000
DTSTAMP:20260425T094304
CREATED:20250606T203009Z
LAST-MODIFIED:20250606T203009Z
UID:10000825-1749279600-1749301200@rock95.com
SUMMARY:Garage Sale - 163 Taylor Drive\, Barrie
DESCRIPTION:Great deals are waiting for you! Lots of items. Everything must go. Aluminum ladders\, garden items\, lawn trimmer\, lawn chairs\, wheeled garden hose\, wine racks and bottles\, aloe plants\, storage bins\, small kitchen appliances\, and more!
URL:https://rock95.com/event/garage-sale-163-taylor-drive-barrie/
CATEGORIES:Garage Sales
END:VEVENT
BEGIN:VEVENT
DTSTART;TZID=America/Toronto:20250607T070000
DTEND;TZID=America/Toronto:20250607T130000
DTSTAMP:20260425T094304
CREATED:20250602T192657Z
LAST-MODIFIED:20250602T192657Z
UID:10000801-1749279600-1749301200@rock95.com
SUMMARY:Bargain Hunter's Garage Sale! - 65 Kingsridge Rd\, Barrie
DESCRIPTION:Bargain Hunter's Garage Sale! \nSaturday\, June 7th \n65 Kingsridge Road\, Barrie \n7:00am - 1:00pm \nPrices:   $1.00-$10.00 \nCash or Credit Cards (SQUARE) \nITEMS INCLUDE: vintage dishes\, jewelry\, toys\, books ( western...Zane Grey etc): lawn furniture\, vintage frames\, small appliances\, all types of display items\, jewelry props and stands\, jewelry supplies\, seasonal accessories\, earrings galore...vintage\, precious\, semi-precious\, themed... $5/pr or 3 pr for $10.00 \nIt's the garage sale that you have been waiting for! \n 
URL:https://rock95.com/event/bargain-hunters-garage-sale-65-kingsridge-rd-barrie/
CATEGORIES:Garage Sales
END:VEVENT
BEGIN:VEVENT
DTSTART;TZID=America/Toronto:20250607T070000
DTEND;TZID=America/Toronto:20250607T120000
DTSTAMP:20260425T094304
CREATED:20250506T144351Z
LAST-MODIFIED:20250506T144432Z
UID:10000692-1749279600-1749297600@rock95.com
SUMMARY:Kingswood Community Streets Sale - Golden Meadow Road\, Barrie
DESCRIPTION:Kingswood Community 3rd annual streets sale!! Participating streets can be found amongst hurst and golden meadow as well as grand forest and big bay point road. Looking forward to seeing everyone!
URL:https://rock95.com/event/kingswood-community-streets-sale-golden-meadow-road-barrie/
CATEGORIES:Garage Sales
END:VEVENT
BEGIN:VEVENT
DTSTART;TZID=America/Toronto:20250606T080000
DTEND;TZID=America/Toronto:20250607T170000
DTSTAMP:20260425T094304
CREATED:20250529T170900Z
LAST-MODIFIED:20250529T170900Z
UID:10000789-1749196800-1749315600@rock95.com
SUMMARY:TOOLS & GARAGE SALE - 78 Oakley Park Square\, Barrie
DESCRIPTION:TOOLS\,mechanic\,garage\,garden\,electrical\,carpentry\,etc. \nMultifamily garage sale.. \n  \n  \n 
URL:https://rock95.com/event/tools-garage-sale-78-oakley-park-square-barrie/
CATEGORIES:Garage Sales
END:VEVENT
BEGIN:VEVENT
DTSTART;TZID=America/Toronto:20250601T080000
DTEND;TZID=America/Toronto:20250601T130000
DTSTAMP:20260425T094304
CREATED:20250529T175201Z
LAST-MODIFIED:20250529T175201Z
UID:10000792-1748764800-1748782800@rock95.com
SUMMARY:Garage Sale - 37 Alfred St\, Barrie
DESCRIPTION:Furniture/Tools
URL:https://rock95.com/event/garage-sale-37-alfred-st-barrie/2025-06-01/
CATEGORIES:Garage Sales
END:VEVENT
BEGIN:VEVENT
DTSTART;TZID=America/Toronto:20250601T073000
DTEND;TZID=America/Toronto:20250601T113000
DTSTAMP:20260425T094304
CREATED:20250529T165445Z
LAST-MODIFIED:20250529T165445Z
UID:10000784-1748763000-1748777400@rock95.com
SUMMARY:Yard Sale - 37 Plowright Rd\, Minesing
DESCRIPTION:Yard Sale - 37 Plowright Rd\, Minesing\nSunday\, June 1\, 2025 @ 7:30am-11:30am \nSomething for all ages! Including: \nKids - toys\, bikes\, clothes\, winter jackets\, costumes\, skates\, sandals\, stuffed animals\, books\, jewelry\, life jackets\, skateboard\, hot wheels track\, dirt bike gear\, diamond paintings\, baseball equipment\, goalie sticks. \nBathroom supplies. Kitchen supplies. Outdoor supplies. Light fixtures. Dog supplies. And much more\, come check it out!
URL:https://rock95.com/event/yard-sale-37-plowright-rd-minesing/
CATEGORIES:Garage Sales
END:VEVENT
BEGIN:VEVENT
DTSTART;TZID=America/Toronto:20250531T090000
DTEND;TZID=America/Toronto:20250531T150000
DTSTAMP:20260425T094304
CREATED:20250527T203022Z
LAST-MODIFIED:20250527T203022Z
UID:10000771-1748682000-1748703600@rock95.com
SUMMARY:Multi Family Yard Sale - 181 Courtney Crescent\, Barrie
DESCRIPTION:Comic Books\, vintage Items\, snowmobile helmets\,  toys\, tools\, New Disney Items\,  DVD’s Disney VHS movies Collectables \, Dish ware Crocheted Towels Clothing\, Something for everyone ! This is a huge sale don’t miss out!
URL:https://rock95.com/event/multi-family-yard-sale-181-courtney-crescent-barrie/
CATEGORIES:Garage Sales
END:VEVENT
BEGIN:VEVENT
DTSTART;TZID=America/Toronto:20250531T090000
DTEND;TZID=America/Toronto:20250531T130000
DTSTAMP:20260425T094304
CREATED:20250530T205241Z
LAST-MODIFIED:20250530T205241Z
UID:10000797-1748682000-1748696400@rock95.com
SUMMARY:Garage Sale - 27 Corbett Drive\, Barrie
DESCRIPTION:Hot wheels\, NASCAR\, hockey collectibles\, funko pops\, Disney VHS\, kids clothing and shoes\, women’s clothing\, household decor\, books\, etc.
URL:https://rock95.com/event/garage-sale-27-corbett-drive-barrie/
CATEGORIES:Garage Sales
END:VEVENT
BEGIN:VEVENT
DTSTART;TZID=America/Toronto:20250531T090000
DTEND;TZID=America/Toronto:20250531T120000
DTSTAMP:20260425T094304
CREATED:20250529T170455Z
LAST-MODIFIED:20250529T175036Z
UID:10000787-1748682000-1748692800@rock95.com
SUMMARY:Garage Sale - 13 Crompton Dr\, Barrie
DESCRIPTION:GARAGE SALE\n13 CROMPTON DRIVE \nMay 31\,9-12 \nsomething for everyone
URL:https://rock95.com/event/garage-sale-13-crompton-dr/
CATEGORIES:Garage Sales
END:VEVENT
BEGIN:VEVENT
DTSTART;TZID=America/Toronto:20250531T080000
DTEND;TZID=America/Toronto:20250531T170000
DTSTAMP:20260425T094304
CREATED:20250530T205354Z
LAST-MODIFIED:20250530T205354Z
UID:10000798-1748678400-1748710800@rock95.com
SUMMARY:Huge Garage Sale - 127 Sproule Dr\, Barrie
DESCRIPTION:Huge Garage Sale ! \nClothes \nHome Decor \nGarden Decor \nAppliances \nKids Toys \nBooks \nMovies \nShoes \nMugs/Glasses \nTools \nVideo Games \nHigher priced Collectables \n  \nAnd LOTS more! Come check it out! There's something for everyone
URL:https://rock95.com/event/huge-garage-sale-127-sproule-dr-barrie/
CATEGORIES:Garage Sales
END:VEVENT
BEGIN:VEVENT
DTSTART;TZID=America/Toronto:20250531T080000
DTEND;TZID=America/Toronto:20250531T160000
DTSTAMP:20260425T094304
CREATED:20250527T202835Z
LAST-MODIFIED:20250527T202835Z
UID:10000770-1748678400-1748707200@rock95.com
SUMMARY:Big Garage Sale - 44 William St\, Elmvale
DESCRIPTION:Come check it out. Something for everyone. Some items brand new!
URL:https://rock95.com/event/big-garage-sale-44-william-st-elmvale/
CATEGORIES:Garage Sales
END:VEVENT
BEGIN:VEVENT
DTSTART;TZID=America/Toronto:20250531T080000
DTEND;TZID=America/Toronto:20250531T150000
DTSTAMP:20260425T094304
CREATED:20250530T205013Z
LAST-MODIFIED:20250530T205013Z
UID:10000796-1748678400-1748703600@rock95.com
SUMMARY:Yard Sale - 5205 5th Line\, Tottenham
DESCRIPTION:Yard Sale! May 31st\,  5205 5th Line Tottenham ( New Tecumseth) 8 - 3.  Antiques\, Collectibles\, furniture \, tools\, toys\, games\, garden\, Coca-Cola\, household\, artwork\, decor
URL:https://rock95.com/event/yard-sale-5205-5th-line-tottenham/
CATEGORIES:Garage Sales
END:VEVENT
BEGIN:VEVENT
DTSTART;TZID=America/Toronto:20250531T080000
DTEND;TZID=America/Toronto:20250531T140000
DTSTAMP:20260425T094304
CREATED:20250529T181645Z
LAST-MODIFIED:20250529T181645Z
UID:10000794-1748678400-1748700000@rock95.com
SUMMARY:Garage Sale - 4227 Concession 11\, Ramara
DESCRIPTION:Multiple items \nHousehold items \nping pong table \nair fryer \ndishes \nclothing \nexercise bike \nand much more
URL:https://rock95.com/event/garage-sale-4227-concession-11-ramara/
CATEGORIES:Garage Sales
END:VEVENT
BEGIN:VEVENT
DTSTART;TZID=America/Toronto:20250531T080000
DTEND;TZID=America/Toronto:20250531T130000
DTSTAMP:20260425T094304
CREATED:20250530T204909Z
LAST-MODIFIED:20250530T204909Z
UID:10000795-1748678400-1748696400@rock95.com
SUMMARY:Multiple Homes on Varden Avenue & Varden Crescent
DESCRIPTION:Enjoy a good find? Come on out and grab some great deals on Saturday May 31st from 8a.m. to 1p.m. on Varden Avenue & the Crescent. \nWe have everything from Mr. Potato Head to DVD's to Circular saws!
URL:https://rock95.com/event/multiple-homes-on-varden-avenue-varden-crescent/
CATEGORIES:Garage Sales
END:VEVENT
BEGIN:VEVENT
DTSTART;TZID=America/Toronto:20250531T080000
DTEND;TZID=America/Toronto:20250531T130000
DTSTAMP:20260425T094304
CREATED:20250529T175201Z
LAST-MODIFIED:20250529T175201Z
UID:10000791-1748678400-1748696400@rock95.com
SUMMARY:Garage Sale - 37 Alfred St\, Barrie
DESCRIPTION:Furniture/Tools
URL:https://rock95.com/event/garage-sale-37-alfred-st-barrie/2025-05-31/
CATEGORIES:Garage Sales
END:VEVENT
BEGIN:VEVENT
DTSTART;TZID=America/Toronto:20250531T080000
DTEND;TZID=America/Toronto:20250531T130000
DTSTAMP:20260425T094304
CREATED:20250529T171018Z
LAST-MODIFIED:20250529T171210Z
UID:10000790-1748678400-1748696400@rock95.com
SUMMARY:Community Yard Sale - 4 Highland Drive\, Oro-Medonte
DESCRIPTION:Annual community-wide yard sale in Horseshoe Valley.
URL:https://rock95.com/event/community-yard-sale/
CATEGORIES:Garage Sales
END:VEVENT
BEGIN:VEVENT
DTSTART;TZID=America/Toronto:20250531T080000
DTEND;TZID=America/Toronto:20250531T130000
DTSTAMP:20260425T094304
CREATED:20250527T202646Z
LAST-MODIFIED:20250527T202646Z
UID:10000768-1748678400-1748696400@rock95.com
SUMMARY:Garage Sale - 28 Donald St (Unit 81)\, Barrie
DESCRIPTION:  \nLots and Lots of Costume Jewelry \nPerfumes\, Make-up \nPurses \nKnick Knacks \nAdult Bike with Helmet\, lock and extra seat \nFishing Rods\, \n2  Bird Feeders \nMiscellaneous Items \n 
URL:https://rock95.com/event/garage-sale-28-donald-st-unit-81-barrie/
CATEGORIES:Garage Sales
END:VEVENT
BEGIN:VEVENT
DTSTART;TZID=America/Toronto:20250531T080000
DTEND;TZID=America/Toronto:20250531T120000
DTSTAMP:20260425T094304
CREATED:20250530T205543Z
LAST-MODIFIED:20250530T205543Z
UID:10000799-1748678400-1748692800@rock95.com
SUMMARY:Garage Sale - 63 Centre Street\, Angus
DESCRIPTION:Garage Sale - 63 Centre Street\, Angus \nLots of items! Come and check it out.
URL:https://rock95.com/event/garage-sale-63-centre-street-angus/
CATEGORIES:Garage Sales
END:VEVENT
BEGIN:VEVENT
DTSTART;TZID=America/Toronto:20250531T080000
DTEND;TZID=America/Toronto:20250531T120000
DTSTAMP:20260425T094304
CREATED:20250527T202746Z
LAST-MODIFIED:20250527T202746Z
UID:10000769-1748678400-1748692800@rock95.com
SUMMARY:Garage Sale - 4 Sunrise Circle\, Wasaga Beach
DESCRIPTION:Garage Sale - many items\, large and small plus some original photos\, matted and ready to frame. Bikes\, picture frames\, household items\, CDs\, DVDs\, some original paintings\, wooden coat rack\, daybed\, kitchen items
URL:https://rock95.com/event/garage-sale-4-sunrise-circle-wasaga-beach/
CATEGORIES:Garage Sales
ATTACH;FMTTYPE=image/jpeg:https://rock95.com/cobPub/uploads/2025/05/IMG_3308.jpeg
END:VEVENT
BEGIN:VEVENT
DTSTART;TZID=America/Toronto:20250531T070000
DTEND;TZID=America/Toronto:20250531T130000
DTSTAMP:20260425T094304
CREATED:20250529T170620Z
LAST-MODIFIED:20250529T170620Z
UID:10000788-1748674800-1748696400@rock95.com
SUMMARY:Garage Sale - 16 Cowdray Park Lane\, Midhurst
DESCRIPTION:Midhurst Community Garage Sale Saturday May 31. Multiple locations throughout Midhurst. Come tour the village for that perfect find.
URL:https://rock95.com/event/garage-sale-16-cowdray-park-lane-midhurst/
CATEGORIES:Garage Sales
END:VEVENT
BEGIN:VEVENT
DTSTART;TZID=America/Toronto:20250531T070000
DTEND;TZID=America/Toronto:20250531T130000
DTSTAMP:20260425T094304
CREATED:20250527T203801Z
LAST-MODIFIED:20250527T203801Z
UID:10000772-1748674800-1748696400@rock95.com
SUMMARY:Estate Garage Sale - 14 Corbett St\, Elmvale
DESCRIPTION:Lots of household items including furniture\, skis\, scrapbooking and school supplies.
URL:https://rock95.com/event/estate-garage-sale-14-corbett-st-elmvale/
CATEGORIES:Garage Sales
END:VEVENT
BEGIN:VEVENT
DTSTART;TZID=America/Toronto:20250531T070000
DTEND;TZID=America/Toronto:20250531T120000
DTSTAMP:20260425T094304
CREATED:20250523T190718Z
LAST-MODIFIED:20250523T190718Z
UID:10000764-1748674800-1748692800@rock95.com
SUMMARY:Multi Family Garage sale 45 & 47 Quance Street\, Barrie
DESCRIPTION:Check us out - books\, garden stuff\, kids stuff\, kitchen / dining stuff\, furniture\, bigger ticket items
URL:https://rock95.com/event/multi-family-garage-sale-45-47-quance-street-barrie/
CATEGORIES:Garage Sales
END:VEVENT
BEGIN:VEVENT
DTSTART;TZID=America/Toronto:20250525T080000
DTEND;TZID=America/Toronto:20250525T170000
DTSTAMP:20260425T094304
CREATED:20250430T152557Z
LAST-MODIFIED:20250430T152557Z
UID:10000682-1748160000-1748192400@rock95.com
SUMMARY:Huge Garage Sale - 2 Timberland Court
DESCRIPTION:Huge garage sale\, moving\, everything must go
URL:https://rock95.com/event/huge-garage-sale-2-timberland-court/2025-05-25/
CATEGORIES:Garage Sales
END:VEVENT
BEGIN:VEVENT
DTSTART;TZID=America/Toronto:20250525T080000
DTEND;TZID=America/Toronto:20250525T150000
DTSTAMP:20260425T094304
CREATED:20250523T184450Z
LAST-MODIFIED:20250523T184509Z
UID:10000762-1748160000-1748185200@rock95.com
SUMMARY:Garage Sale - 70 Donald Crescent\, Wasaga Beach
DESCRIPTION:Come see a variety of vintage household items\, clothing\, tools\, and more! something for everyone! Saturday and Sunday 8am to 3pm!
URL:https://rock95.com/event/garage-sale-70-donald-crescent-wasaga-beach/2025-05-25/
CATEGORIES:Garage Sales
END:VEVENT
BEGIN:VEVENT
DTSTART;TZID=America/Toronto:20250524T090000
DTEND;TZID=America/Toronto:20250524T120000
DTSTAMP:20260425T094304
CREATED:20250522T205345Z
LAST-MODIFIED:20250522T205413Z
UID:10000758-1748077200-1748088000@rock95.com
SUMMARY:Garage Sale - 13 Crompton Dr\, Barrie
DESCRIPTION:GARAGE SALE  May 24 th\, \n13  CROMPTON DRIVE\, BARRIE \n9-12 weather depending \nsomething for everyone
URL:https://rock95.com/event/garage-sale-14-crompton-dr-barrie/
CATEGORIES:Garage Sales
END:VEVENT
BEGIN:VEVENT
DTSTART;TZID=America/Toronto:20250524T080000
DTEND;TZID=America/Toronto:20250524T170000
DTSTAMP:20260425T094304
CREATED:20250522T202101Z
LAST-MODIFIED:20250522T202101Z
UID:10000757-1748073600-1748106000@rock95.com
SUMMARY:Multi-Family Garage/Demo Sale - 559 Big Bay Point Rd\, Barrie
DESCRIPTION:Come Join Us \nFurniture\, household items\, Fishing rods and gear\, tools\, Brand new Orange reflective coats/shirts\, reflective rain gear\, golf balls\, toys books\, games\, movies and toys and much much more!!
URL:https://rock95.com/event/multi-family-garage-demo-sale-559-big-bay-point-rd-barrie/
CATEGORIES:Garage Sales
END:VEVENT
BEGIN:VEVENT
DTSTART;TZID=America/Toronto:20250524T080000
DTEND;TZID=America/Toronto:20250524T170000
DTSTAMP:20260425T094304
CREATED:20250430T152557Z
LAST-MODIFIED:20250430T152557Z
UID:10000681-1748073600-1748106000@rock95.com
SUMMARY:Huge Garage Sale - 2 Timberland Court
DESCRIPTION:Huge garage sale\, moving\, everything must go
URL:https://rock95.com/event/huge-garage-sale-2-timberland-court/2025-05-24/
CATEGORIES:Garage Sales
END:VEVENT
BEGIN:VEVENT
DTSTART;TZID=America/Toronto:20250524T080000
DTEND;TZID=America/Toronto:20250524T160000
DTSTAMP:20260425T094304
CREATED:20250522T182657Z
LAST-MODIFIED:20250522T182657Z
UID:10000755-1748073600-1748102400@rock95.com
SUMMARY:Garage Sale - 5803 Sideroad 25\, Utopia
DESCRIPTION:Rain or Shine!
URL:https://rock95.com/event/garage-sale-5803-sideroad-25-utopia/
CATEGORIES:Garage Sales
END:VEVENT
BEGIN:VEVENT
DTSTART;TZID=America/Toronto:20250524T080000
DTEND;TZID=America/Toronto:20250524T150000
DTSTAMP:20260425T094304
CREATED:20250523T184922Z
LAST-MODIFIED:20250523T184922Z
UID:10000763-1748073600-1748098800@rock95.com
SUMMARY:Garage Sale Extravaganza! - 11 Cowan Ave\, Alliston
DESCRIPTION:**GARAGE SALE Huge EXTRAVAGANZA!**\n10 COWAN AVE ALLISTON\, L9R 1M9 Downsizing too much stuff!\nThere will be DANDELION JAM to Buy and a Bake Sale\, mmmm!\nSo many ITEMS:\n**1980s and some newer Lot of HOCKEY CARDS\,\n**Sidney CROSBY old time HOCKEY Practice HOODIE\, **2 BOAT Seats\, **CROSLEY Portable Turntable\, ** RADIAL Arm SAW\, **CARGO Rack\, **CLOTHES\, Adidas\, Bench\, Levi's etc\, **ICE COOL Freezer\, *STEREO Equipment\, **FURNITURE\, **ROUTER w Table\, **AQUARIUM Stuff\, **PLAY Pen\, **HIGH Chair\, **Vintage RCA STEREO Console\, **Old BIKES\, **New AVON stuff\, **Old and New GAMES\, **Huge Lot of Vintage BEADS\, **Lots of TOYS **KIDS Stuff\, **Boxed New BARBIES\, **Lots of VINTAGE Stuff and SO MUCH MORE! You won't be disappointed!\nHope you can come out for a PEEK\, have something to EAT and SHOP!\nPriced To SELL!!
URL:https://rock95.com/event/garage-sale-extravaganza-11-cowan-ave-alliston/
CATEGORIES:Garage Sales
END:VEVENT
BEGIN:VEVENT
DTSTART;TZID=America/Toronto:20250524T080000
DTEND;TZID=America/Toronto:20250524T150000
DTSTAMP:20260425T094304
CREATED:20250523T184450Z
LAST-MODIFIED:20250523T184509Z
UID:10000761-1748073600-1748098800@rock95.com
SUMMARY:Garage Sale - 70 Donald Crescent\, Wasaga Beach
DESCRIPTION:Come see a variety of vintage household items\, clothing\, tools\, and more! something for everyone! Saturday and Sunday 8am to 3pm!
URL:https://rock95.com/event/garage-sale-70-donald-crescent-wasaga-beach/2025-05-24/
CATEGORIES:Garage Sales
END:VEVENT
END:VCALENDAR