BEGIN:VCALENDAR
VERSION:2.0
PRODID:-//Rock 95 - ECPv6.15.16//NONSGML v1.0//EN
CALSCALE:GREGORIAN
METHOD:PUBLISH
X-ORIGINAL-URL:https://rock95.com
X-WR-CALDESC:Events for Rock 95
REFRESH-INTERVAL;VALUE=DURATION:PT1H
X-Robots-Tag:noindex
X-PUBLISHED-TTL:PT1H
BEGIN:VTIMEZONE
TZID:America/Toronto
BEGIN:DAYLIGHT
TZOFFSETFROM:-0500
TZOFFSETTO:-0400
TZNAME:EDT
DTSTART:20230312T070000
END:DAYLIGHT
BEGIN:STANDARD
TZOFFSETFROM:-0400
TZOFFSETTO:-0500
TZNAME:EST
DTSTART:20231105T060000
END:STANDARD
BEGIN:DAYLIGHT
TZOFFSETFROM:-0500
TZOFFSETTO:-0400
TZNAME:EDT
DTSTART:20240310T070000
END:DAYLIGHT
BEGIN:STANDARD
TZOFFSETFROM:-0400
TZOFFSETTO:-0500
TZNAME:EST
DTSTART:20241103T060000
END:STANDARD
BEGIN:DAYLIGHT
TZOFFSETFROM:-0500
TZOFFSETTO:-0400
TZNAME:EDT
DTSTART:20250309T070000
END:DAYLIGHT
BEGIN:STANDARD
TZOFFSETFROM:-0400
TZOFFSETTO:-0500
TZNAME:EST
DTSTART:20251102T060000
END:STANDARD
END:VTIMEZONE
BEGIN:VEVENT
DTSTART;TZID=America/Toronto:20240819T180000
DTEND;TZID=America/Toronto:20240819T220000
DTSTAMP:20260422T004247
CREATED:20240119T231228Z
LAST-MODIFIED:20240708T001707Z
UID:10000044-1724090400-1724104800@rock95.com
SUMMARY:Bush - Loaded: The Greatest Hits Tour
DESCRIPTION:Get ready for an unforgettable night of rock as the iconic  band\, Bush\, takes center stage on their "Loaded: The Greatest Hits Tour." On Monday\, August 19th at Budweiser stage join an electrifying performance that spans the decades of this legendary rock group's career. Hailing from London and formed in 1992\, Bush has left an indelible mark on the rock scene with their powerful sound and timeless hits. With support from Jerry Cantrell and Candlebox\, plus more to be announced!
URL:https://rock95.com/event/bush-loaded-the-greatest-hits-tour/
LOCATION:RBC Amphitheatre\, 909 Lake Shore Blvd W\, Toronto\, Ontario\, M6K 3L3\, Canada
CATEGORIES:Concerts
ATTACH;FMTTYPE=image/jpeg:https://rock95.com/cobPub/uploads/2024/07/2-3-scaled-1.jpg
END:VEVENT
BEGIN:VEVENT
DTSTART;TZID=America/Toronto:20240817T200000
DTEND;TZID=America/Toronto:20240817T220000
DTSTAMP:20260422T004247
CREATED:20240326T203450Z
LAST-MODIFIED:20240707T194058Z
UID:10000016-1723924800-1723932000@rock95.com
SUMMARY:The Glorious Sons at Kee to Bala
DESCRIPTION:
URL:https://rock95.com/event/the-glorious-sons-at-kee-to-bala/2024-08-17/
LOCATION:The Kee - Bala\, 1012 Bala Falls Road\, Bala\, Ontario\, P0C 1A0\, Canada
CATEGORIES:Concerts
ATTACH;FMTTYPE=image/jpeg:https://rock95.com/cobPub/uploads/2024/07/event-header-3-1-scaled-1.jpg
END:VEVENT
BEGIN:VEVENT
DTSTART;TZID=America/Toronto:20240816T200000
DTEND;TZID=America/Toronto:20240816T220000
DTSTAMP:20260422T004247
CREATED:20240326T203450Z
LAST-MODIFIED:20240707T194058Z
UID:10000015-1723838400-1723845600@rock95.com
SUMMARY:The Glorious Sons at Kee to Bala
DESCRIPTION:
URL:https://rock95.com/event/the-glorious-sons-at-kee-to-bala/2024-08-16/
LOCATION:The Kee - Bala\, 1012 Bala Falls Road\, Bala\, Ontario\, P0C 1A0\, Canada
CATEGORIES:Concerts
ATTACH;FMTTYPE=image/jpeg:https://rock95.com/cobPub/uploads/2024/07/event-header-3-1-scaled-1.jpg
END:VEVENT
BEGIN:VEVENT
DTSTART;TZID=America/Toronto:20240815T190000
DTEND;TZID=America/Toronto:20240815T230000
DTSTAMP:20260422T004247
CREATED:20231023T191512Z
LAST-MODIFIED:20240708T001901Z
UID:10000048-1723748400-1723762800@rock95.com
SUMMARY:Blink-182 One More Time Tour
DESCRIPTION:Blink-182 continues their reunion on their 2024 tour\, "One More Time"\, which will make its way through the US for a portion of the year and will conclude it's North American leg of the tour in Toronto\, their one and only Canadian stop before they head to the UK.  They'll take the stage at Rogers Centre with special guests ALEXISONFIRE and Pierce the Veil.
URL:https://rock95.com/event/blink-182-2024-tour-toronto/
LOCATION:Rogers Centre\, 1 Blue Jays Way\, Toronto\, Ontario\, M5V 1J1\, Canada
CATEGORIES:Concerts
ATTACH;FMTTYPE=image/jpeg:https://rock95.com/cobPub/uploads/2024/07/1-3.jpg
END:VEVENT
BEGIN:VEVENT
DTSTART;TZID=America/Toronto:20240814T190000
DTEND;TZID=America/Toronto:20240814T210000
DTSTAMP:20260422T004247
CREATED:20240716T160739Z
LAST-MODIFIED:20240716T160739Z
UID:10000183-1723662000-1723669200@rock95.com
SUMMARY:Sol Summer Concert Series- U2 Tribute Desire
DESCRIPTION:Make your summer nights unforgettable with Horseshoe Resort’s Sol Summer Concert Series presented by Rock 95! \nJoin Rock 95 on Wednesday Nights from 7pm-9pm weather permitting\, throughout the summer to see some incredible bands LIVE on the Sol Outdoor Stage on the Après Patio which is the Largest Patio in all of Ontario! \nDon’t Miss The International U2 Tribute – Desire.  \nGrab some friends and enjoy summer the way it was meant to be enjoyed\, with great company and awesome tunes that were made to sing along to! The Sol Summer Concert Series at Horseshoe Resort.
URL:https://rock95.com/event/sol-summer-concert-series-u2-tribute-desire/
LOCATION:Horseshoe Valley Resort\, 1101 Horseshoe Valley Rd W\,\, Barrie\, On\, L4M 4Y8\, Canada
CATEGORIES:Concerts
ATTACH;FMTTYPE=image/jpeg:https://rock95.com/cobPub/uploads/2024/07/u2-desire-1920x1080-1.jpg
END:VEVENT
BEGIN:VEVENT
DTSTART;TZID=America/Toronto:20240813T200000
DTEND;TZID=America/Toronto:20240813T230000
DTSTAMP:20260422T004247
CREATED:20240507T002533Z
LAST-MODIFIED:20240708T001919Z
UID:10000049-1723579200-1723590000@rock95.com
SUMMARY:Billy Idol at The Kee to Bala
DESCRIPTION:
URL:https://rock95.com/event/billy-idol-at-the-kee-to-bala/
LOCATION:The Kee - Bala\, 1012 Bala Falls Road\, Bala\, Ontario\, P0C 1A0\, Canada
CATEGORIES:Concerts
ATTACH;FMTTYPE=image/jpeg:https://rock95.com/cobPub/uploads/2024/07/event-header-77-scaled-1.jpg
END:VEVENT
BEGIN:VEVENT
DTSTART;TZID=America/Toronto:20240810T200000
DTEND;TZID=America/Toronto:20240810T220000
DTSTAMP:20260422T004247
CREATED:20240326T202902Z
LAST-MODIFIED:20240707T194204Z
UID:10000018-1723320000-1723327200@rock95.com
SUMMARY:David Wilcox at Kee to Bala
DESCRIPTION:
URL:https://rock95.com/event/david-wilcox-at-kee-to-bala/2024-08-10/
LOCATION:The Kee - Bala\, 1012 Bala Falls Road\, Bala\, Ontario\, P0C 1A0\, Canada
CATEGORIES:Concerts
ATTACH;FMTTYPE=image/jpeg:https://rock95.com/cobPub/uploads/2024/07/event-header-4-scaled-1.jpg
END:VEVENT
BEGIN:VEVENT
DTSTART;TZID=America/Toronto:20240809T200000
DTEND;TZID=America/Toronto:20240809T230000
DTSTAMP:20260422T004247
CREATED:20240408T213605Z
LAST-MODIFIED:20240708T002148Z
UID:10000053-1723233600-1723244400@rock95.com
SUMMARY:Billy Idol with special guest Platinum Blonde
DESCRIPTION:Legendary rocker Billy Idol will embark on his transcontinental Rebel Yell Canada 2024 arena tour this summer\, beginning July 30 in Vancouver and running through August 25 in St. John’s\, Newfoundland. Produced by Live Nation Canada\, Idol’s show will include a myriad of hits from across his career with a focus on the landmark Rebel Yell album\, which is celebrating its 40th anniversary. Joining Idol is his longtime backing band\, including his lead guitarist and collaborator of over 40 years\, Steve Stevens. Canadian Walk Of Fame inductees Platinum Blonde will appear as special guest across all stops.
URL:https://rock95.com/event/billy-idol-with-special-guest-platinum-blonde/
LOCATION:Scotiabank Arena\, 40 Bay St.\, Toronto\, Ontario\, M5J 2X2\, Canada
CATEGORIES:Concerts
ATTACH;FMTTYPE=image/jpeg:https://rock95.com/cobPub/uploads/2024/07/1-27.jpg
END:VEVENT
BEGIN:VEVENT
DTSTART;TZID=America/Toronto:20240809T200000
DTEND;TZID=America/Toronto:20240809T220000
DTSTAMP:20260422T004247
CREATED:20240326T202902Z
LAST-MODIFIED:20240707T194204Z
UID:10000017-1723233600-1723240800@rock95.com
SUMMARY:David Wilcox at Kee to Bala
DESCRIPTION:
URL:https://rock95.com/event/david-wilcox-at-kee-to-bala/2024-08-09/
LOCATION:The Kee - Bala\, 1012 Bala Falls Road\, Bala\, Ontario\, P0C 1A0\, Canada
CATEGORIES:Concerts
ATTACH;FMTTYPE=image/jpeg:https://rock95.com/cobPub/uploads/2024/07/event-header-4-scaled-1.jpg
END:VEVENT
BEGIN:VEVENT
DTSTART;TZID=America/Toronto:20240809T190000
DTEND;TZID=America/Toronto:20240809T220000
DTSTAMP:20260422T004247
CREATED:20240425T201551Z
LAST-MODIFIED:20240707T194250Z
UID:10000020-1723230000-1723240800@rock95.com
SUMMARY:Imagine Dragons
DESCRIPTION:Imagine Dragons continue to redefine rock in the 21st century. Filling stadiums\, crafting cloud-rattling\nanthems\, and breaking records at every turn\, diamond-certified GRAMMY® Award-winning Las Vegas\nquartet Imagine Dragons occupy rarified air as one of the biggest rock bands in the world. Tallying\ncumulative sales of 74 million album equivalents\, 65 million digital songs\, and over 160 billion streams\,\nthey stand out as “the only band in history to earn four RIAA Diamond singles\,” namely “Radioactive” (16x-\nplatinum)\, “Believer” (13x-platinum)\, “Thunder” (12x-platinum) and “Demons” (11x-platinum). \nEntering a fearlessly bold era\, Imagine Dragons will unveil their anxiously awaited sixth full-length album\,\nLOOM\, on June 28\, 2024. \nIn tandem with the record\, the band will embark on their biggest North American headline tour to date.\nDescending upon legendary venues across the country\, it kicks off on July 30\, 2024 in Camden\, NJ at\nFreedom Mortgage Pavilion\, rolls through major markets coast-to-coast\, and concludes on October 22\,\n2024 at Los Angeles’ iconic Hollywood Bowl. \n 
URL:https://rock95.com/event/imagine-dragons/2024-08-09/
LOCATION:RBC Amphitheatre\, 909 Lake Shore Blvd W\, Toronto\, Ontario\, M6K 3L3\, Canada
CATEGORIES:Concerts
ATTACH;FMTTYPE=image/jpeg:https://rock95.com/cobPub/uploads/2024/07/1-30.jpg
END:VEVENT
BEGIN:VEVENT
DTSTART;TZID=America/Toronto:20240808T190000
DTEND;TZID=America/Toronto:20240808T220000
DTSTAMP:20260422T004247
CREATED:20240425T201551Z
LAST-MODIFIED:20240707T194250Z
UID:10000019-1723143600-1723154400@rock95.com
SUMMARY:Imagine Dragons
DESCRIPTION:Imagine Dragons continue to redefine rock in the 21st century. Filling stadiums\, crafting cloud-rattling\nanthems\, and breaking records at every turn\, diamond-certified GRAMMY® Award-winning Las Vegas\nquartet Imagine Dragons occupy rarified air as one of the biggest rock bands in the world. Tallying\ncumulative sales of 74 million album equivalents\, 65 million digital songs\, and over 160 billion streams\,\nthey stand out as “the only band in history to earn four RIAA Diamond singles\,” namely “Radioactive” (16x-\nplatinum)\, “Believer” (13x-platinum)\, “Thunder” (12x-platinum) and “Demons” (11x-platinum). \nEntering a fearlessly bold era\, Imagine Dragons will unveil their anxiously awaited sixth full-length album\,\nLOOM\, on June 28\, 2024. \nIn tandem with the record\, the band will embark on their biggest North American headline tour to date.\nDescending upon legendary venues across the country\, it kicks off on July 30\, 2024 in Camden\, NJ at\nFreedom Mortgage Pavilion\, rolls through major markets coast-to-coast\, and concludes on October 22\,\n2024 at Los Angeles’ iconic Hollywood Bowl. \n 
URL:https://rock95.com/event/imagine-dragons/2024-08-08/
LOCATION:RBC Amphitheatre\, 909 Lake Shore Blvd W\, Toronto\, Ontario\, M6K 3L3\, Canada
CATEGORIES:Concerts
ATTACH;FMTTYPE=image/jpeg:https://rock95.com/cobPub/uploads/2024/07/1-30.jpg
END:VEVENT
BEGIN:VEVENT
DTSTART;TZID=America/Toronto:20240805T120000
DTEND;TZID=America/Toronto:20240805T170000
DTSTAMP:20260422T004247
CREATED:20240425T175345Z
LAST-MODIFIED:20240708T025129Z
UID:10000055-1722859200-1722877200@rock95.com
SUMMARY:Kempenfest The Carpet Frogs with special guests The Faculty
DESCRIPTION:OLG Main Stage - Gates Open at 12:00pm  \n(Tickets Required)  \n\n\n\n\n\n2:45PM - The Carpet Frogs\n\n\n\n\n\n\n\n\n12:30PM - The Faculty
URL:https://rock95.com/event/kempenfest-the-carpet-frogs-with-special-guests-the-faculty/
LOCATION:OLG Main Stage South Shore Centre\, 205 Lakeshore Dr\,\, Barrie\, Ontario\, L4N 7Y9\, Canada
CATEGORIES:Concerts
ATTACH;FMTTYPE=image/jpeg:https://rock95.com/cobPub/uploads/2024/07/2024-Kempenfest-2-scaled-1.jpg
END:VEVENT
BEGIN:VEVENT
DTSTART;TZID=America/Toronto:20240803T120000
DTEND;TZID=America/Toronto:20240803T220000
DTSTAMP:20260422T004247
CREATED:20240425T175011Z
LAST-MODIFIED:20240708T025133Z
UID:10000056-1722686400-1722722400@rock95.com
SUMMARY:Kempenfest Matthew Good with special guests Crown Lands\, Bleeker\, and Grant Boyer
DESCRIPTION:Saturday - OLG Main Stage\n\n\n\n\nGate Open at 12:00pm - (Tickets Required Past 5:30PM) \n\n\n\n\n\n8:30PM - Matthew Good and His Band\n\n\n\n\n\n\n7:20PM - Crown Lands\n\n\n\n\n\n\n6:25PM - Bleeker\n\n\n\n\n\n\n\n5:30PM - Grant Boyer
URL:https://rock95.com/event/kempenfest-matthew-good-with-special-guests-crown-lands-bleeker-and-grant-boyer/
LOCATION:OLG Main Stage South Shore Centre\, 205 Lakeshore Dr\,\, Barrie\, Ontario\, L4N 7Y9\, Canada
CATEGORIES:Concerts
ATTACH;FMTTYPE=image/jpeg:https://rock95.com/cobPub/uploads/2024/07/2024-Kempenfest-1-scaled-1.jpg
END:VEVENT
BEGIN:VEVENT
DTSTART;TZID=America/Toronto:20240801T200000
DTEND;TZID=America/Toronto:20240801T233000
DTSTAMP:20260422T004247
CREATED:20231102T194532Z
LAST-MODIFIED:20240708T002345Z
UID:10000057-1722542400-1722555000@rock95.com
SUMMARY:Green Day The Saviors Tour with The Smashing Pumpkins\, Rancid\, and The Linda Lindas
DESCRIPTION:Celebrating 30 years of Dookie & 20 years of American Idiot! Don't miss out on Green Day's The Saviors Tour coming to Toronto August 1st\, 2024 at Rogers Centre.
URL:https://rock95.com/event/green-day-the-saviors-tour-2024/
LOCATION:Rogers Centre\, 1 Blue Jays Way\, Toronto\, Ontario\, M5V 1J1\, Canada
CATEGORIES:Concerts
ATTACH;FMTTYPE=image/jpeg:https://rock95.com/cobPub/uploads/2024/07/Event-Images-for-WordPress-10-scaled-1.jpg
END:VEVENT
BEGIN:VEVENT
DTSTART;TZID=America/Toronto:20240731T200000
DTEND;TZID=America/Toronto:20240731T220000
DTSTAMP:20260422T004247
CREATED:20240326T202654Z
LAST-MODIFIED:20240708T002556Z
UID:10000060-1722456000-1722463200@rock95.com
SUMMARY:Smashing Pumpkins
DESCRIPTION:
URL:https://rock95.com/event/smashing-pumpkins/
LOCATION:The Kee - Bala\, 1012 Bala Falls Road\, Bala\, Ontario\, P0C 1A0\, Canada
CATEGORIES:Concerts
ATTACH;FMTTYPE=image/jpeg:https://rock95.com/cobPub/uploads/2024/07/event-header-9-scaled-1.jpg
END:VEVENT
BEGIN:VEVENT
DTSTART;TZID=America/Toronto:20240731T190000
DTEND;TZID=America/Toronto:20240731T230000
DTSTAMP:20260422T004247
CREATED:20231115T024053Z
LAST-MODIFIED:20240708T002617Z
UID:10000061-1722452400-1722466800@rock95.com
SUMMARY:Sammy Hagar The Best of All Worlds Tour with special guest Loverboy
DESCRIPTION:
URL:https://rock95.com/event/sammy-hagar-the-best-of-all-worlds-tour-with-special-guest-loverboy/
LOCATION:RBC Amphitheatre\, 909 Lake Shore Blvd W\, Toronto\, Ontario\, M6K 3L3\, Canada
CATEGORIES:Concerts
ATTACH;FMTTYPE=image/jpeg:https://rock95.com/cobPub/uploads/2024/07/Event-Images-for-WordPress-14-scaled-1.jpg
END:VEVENT
BEGIN:VEVENT
DTSTART;TZID=America/Toronto:20240731T190000
DTEND;TZID=America/Toronto:20240731T210000
DTSTAMP:20260422T004247
CREATED:20240716T160452Z
LAST-MODIFIED:20240716T160452Z
UID:10000182-1722452400-1722459600@rock95.com
SUMMARY:Sol Summer Concert Series- Elvis Impersonator John Cigan
DESCRIPTION:Make your summer nights unforgettable with Horseshoe Resort’s Sol Summer Concert Series presented by Rock 95! \nJoin Rock 95 on Wednesday Nights from 7pm-9pm weather permitting\, throughout the summer to see some incredible bands LIVE on the Sol Outdoor Stage on the Après Patio which is the Largest Patio in all of Ontario! \nDon’t Miss the Legendary King of Rock ‘n’ Roll as embodied by the incomparable John Cigan. \nGrab some friends and enjoy summer the way it was meant to be enjoyed\, with great company and awesome tunes that were made to sing along to! The Sol Summer Concert Series at Horseshoe Resort.
URL:https://rock95.com/event/sol-summer-concert-series-elvis-impersonator-john-cigan/
LOCATION:Horseshoe Valley Resort\, 1101 Horseshoe Valley Rd W\,\, Barrie\, On\, L4M 4Y8\, Canada
CATEGORIES:Concerts
ATTACH;FMTTYPE=image/jpeg:https://rock95.com/cobPub/uploads/2024/07/Elvis-Impersonator.jpg
END:VEVENT
BEGIN:VEVENT
DTSTART;TZID=America/Toronto:20240730T190000
DTEND;TZID=America/Toronto:20240730T230000
DTSTAMP:20260422T004247
CREATED:20231030T190420Z
LAST-MODIFIED:20240708T002653Z
UID:10000063-1722366000-1722380400@rock95.com
SUMMARY:Summer of '99 Tour: Creed with special guests Big Wreck & Finger Eleven
DESCRIPTION:
URL:https://rock95.com/event/summer-of-99-tour-creed-with-special-guests-big-wreck-finger-eleven/
LOCATION:RBC Amphitheatre\, 909 Lake Shore Blvd W\, Toronto\, Ontario\, M6K 3L3\, Canada
CATEGORIES:Concerts
ATTACH;FMTTYPE=image/jpeg:https://rock95.com/cobPub/uploads/2024/07/3-6-scaled-1.jpg
END:VEVENT
BEGIN:VEVENT
DTSTART;TZID=America/Toronto:20240728T183000
DTEND;TZID=America/Toronto:20240728T223000
DTSTAMP:20260422T004247
CREATED:20240312T184727Z
LAST-MODIFIED:20240708T002709Z
UID:10000064-1722191400-1722205800@rock95.com
SUMMARY:SLASH S.E.R.P.E.N.T. Festival: Solidarity\, Engagement\, Restore\, Peace\, Equality N' Tolerance
DESCRIPTION:Following the announcement of his highly anticipated sixth solo album Orgy of the Damned\, due out May 17 on Gibson Records\, the iconic\, GRAMMY®-winning guitarist and songwriter SLASH\, has confirmed a North American tour in celebration of the Blues this summer. SLASH’s newly announced S.E.R.P.E.N.T. festival\, an anagram that stands for Solidarity\, Engagement\, Restore\, Peace\, Equality N’ Tolerance will kick off this July. \nSLASH has curated an all-star Blues lineup to join him on the inaugural S.E.R.P.E.N.T. festival this summer\, including Warren Haynes Band\, Keb’ ‘Mo\, Christone “Kingfish” Ingram\, Robert Randolph\, Samantha Fish\, Eric Gales\, ZZ Ward\, Jackie Venson\, and Larkin Poe. On all dates\, SLASH will perform alongside his Blues band featuring bassist Johnny Griparic\, keyboardist Teddy ‘ZigZag’ Andreadis\, drummer Michael Jerome\, and singer/guitarist Tash Neal. \nSLASH formed the S.E.R.P.E.N.T. festival which stands for Solidarity\, Engagement\, Restore\, Peace\, Equality N’ Tolerance to bring fans together to celebrate the spirit of the Blues\, and to perform with other Blues artists he admires who share his love of the genre. SLASH also has a strong desire to give back to charities that he has supported over the years\, as well as to help lift marginalized communities that share his restorative focus of elevating lives for the benefit of all. A\nportion of the proceeds from each VIP package and S.E.R.P.E.N.T. festival ticket sold will directly benefit the following charities that SLASH has selected The Equal Justice Initiative\, Know Your Rights Camp\, The Greenlining Institute\, and War Child. S.E.R.P.E.N.T Festival has partnered with PLUS1.ORG to support these charitable endeavors. \n“The S.E.R.P.E.N.T. tour is a celebration of blues and rock ‘n’ roll music\, and a celebration of unity and togetherness in these uncertain and divisive times\,” says SLASH. “S.E.R.P.E.N.T is a vehicle to help support and uplift people and communities suffering from the injustices of racism and equal rights violations\, as well as to support children adversely affected by war and poverty across the world. So\, we are contributing a portion of every ticket and VIP package sold from the tour to those ends. S.E.R.P.E.N.T. will also provide an environment where folks can get together for a day of great music and hang out and have a good time.” \nGeneral on sale for tickets begins Friday\, March 15 at 10am local time. For pre-sales\, visit www.serpentfestival.com. A limited number of S.E.R.P.E.N.T. festival VIP packages are available now which include access to watch SLASH’s soundcheck before the show\, hand-signed vinyl of Orgy of the Damned\, and more\, go to: www.serpentfestival.com.
URL:https://rock95.com/event/slash-s-e-r-p-e-n-t-festival-solidarity-engagement-restore-peace-equality-n-tolerance/
LOCATION:RBC Amphitheatre\, 909 Lake Shore Blvd W\, Toronto\, Ontario\, M6K 3L3\, Canada
CATEGORIES:Concerts
ATTACH;FMTTYPE=image/jpeg:https://rock95.com/cobPub/uploads/2024/07/event-header-37-scaled-1.jpg
END:VEVENT
BEGIN:VEVENT
DTSTART;TZID=America/Toronto:20240727T210000
DTEND;TZID=America/Toronto:20240727T230000
DTSTAMP:20260422T004247
CREATED:20240710T162743Z
LAST-MODIFIED:20240710T162743Z
UID:10000163-1722114000-1722121200@rock95.com
SUMMARY:54-40
DESCRIPTION:This is a LEGAL AGE 19+ event. \nThe VIP Balcony ticket includes:\nDedicated and expedited line access into the venue. \nDoors: 9pm\nShow: 10pm\nNet Capacity: 1\,050
URL:https://rock95.com/event/54-40/
LOCATION:The Kee - Bala\, 1012 Bala Falls Road\, Bala\, Ontario\, P0C 1A0\, Canada
CATEGORIES:Concerts
ATTACH;FMTTYPE=image/jpeg:https://rock95.com/cobPub/uploads/2024/07/event-header-2024-07-10T121649.608-scaled.jpg
END:VEVENT
BEGIN:VEVENT
DTSTART;TZID=America/Toronto:20240726T200000
DTEND;TZID=America/Toronto:20240726T220000
DTSTAMP:20260422T004247
CREATED:20240326T202322Z
LAST-MODIFIED:20240708T002932Z
UID:10000068-1722024000-1722031200@rock95.com
SUMMARY:The Trews at Kee to Bala
DESCRIPTION:This is a LEGAL AGE 19+ event. \nThe VIP Balcony ticket includes:\nDedicated and expedited line access into the venue. \nDoors: 8pm\nShow: 9pm
URL:https://rock95.com/event/the-trews-at-kee-to-bala/
LOCATION:The Kee - Bala\, 1012 Bala Falls Road\, Bala\, Ontario\, P0C 1A0\, Canada
CATEGORIES:Concerts
ATTACH;FMTTYPE=image/jpeg:https://rock95.com/cobPub/uploads/2024/07/event-header-6-scaled-1.jpg
END:VEVENT
BEGIN:VEVENT
DTSTART;TZID=America/Toronto:20240724T190000
DTEND;TZID=America/Toronto:20240724T210000
DTSTAMP:20260422T004247
CREATED:20240716T160212Z
LAST-MODIFIED:20240716T160212Z
UID:10000181-1721847600-1721854800@rock95.com
SUMMARY:SOL CONCERT SERIES- Pearl Jamming
DESCRIPTION:Make your summer nights unforgettable with Horseshoe Resort’s Sol Summer Concert Series presented by Rock 95! \nJoin Rock 95 on Wednesday Nights from 7pm-9pm weather permitting\, throughout the summer to see some incredible bands LIVE on the Sol Outdoor Stage on the Après Patio which is the Largest Patio in all of Ontario! \nDon’t miss Pearl Jamming… The Most Authentic Tribute to Pearl Jam” \nGrab some friends and enjoy summer the way it was meant to be enjoyed\, with great company and awesome tunes that were made to sing along to! The Sol Summer Concert Series at Horseshoe Resort.
URL:https://rock95.com/event/sol-concert-series-pearl-jamming/
LOCATION:Horseshoe Valley Resort\, 1101 Horseshoe Valley Rd W\,\, Barrie\, On\, L4M 4Y8\, Canada
CATEGORIES:Concerts
ATTACH;FMTTYPE=image/jpeg:https://rock95.com/cobPub/uploads/2024/07/Page-Banner-1920-x-1080-px.jpg
END:VEVENT
BEGIN:VEVENT
DTSTART;TZID=America/Toronto:20240720T130000
DTEND;TZID=America/Toronto:20240720T223000
DTSTAMP:20260422T004247
CREATED:20240314T175646Z
LAST-MODIFIED:20240707T194616Z
UID:10000022-1721480400-1721514600@rock95.com
SUMMARY:Tall Pines Music & Arts Festival
DESCRIPTION:Tall Pines Music & Arts Festival is a celebration of nature and the arts\, coming to Muskoka in July 2024! \n  \n \nGet tickets now! \n 
URL:https://rock95.com/event/tall-pines-music-arts-festival/2024-07-20/
LOCATION:Ontario
CATEGORIES:Concerts
ATTACH;FMTTYPE=image/jpeg:https://rock95.com/cobPub/uploads/2024/03/Tall-PinesRock95-Ad.jpg
END:VEVENT
BEGIN:VEVENT
DTSTART;TZID=America/Toronto:20240719T150000
DTEND;TZID=America/Toronto:20240719T223000
DTSTAMP:20260422T004247
CREATED:20240314T175646Z
LAST-MODIFIED:20240707T194616Z
UID:10000021-1721401200-1721428200@rock95.com
SUMMARY:Tall Pines Music & Arts Festival
DESCRIPTION:Tall Pines Music & Arts Festival is a celebration of nature and the arts\, coming to Muskoka in July 2024! \n  \n \nGet tickets now! \n 
URL:https://rock95.com/event/tall-pines-music-arts-festival/2024-07-19/
LOCATION:Ontario
CATEGORIES:Concerts
ATTACH;FMTTYPE=image/jpeg:https://rock95.com/cobPub/uploads/2024/03/Tall-PinesRock95-Ad.jpg
END:VEVENT
BEGIN:VEVENT
DTSTART;TZID=America/Toronto:20240718T200000
DTEND;TZID=America/Toronto:20240718T220000
DTSTAMP:20260422T004247
CREATED:20240326T200904Z
LAST-MODIFIED:20240708T003116Z
UID:10000072-1721332800-1721340000@rock95.com
SUMMARY:The Beaches at Kee to Bala
DESCRIPTION:Juno Award-winning\, Toronto-based band The Beaches are 100% rock and roll. Comprised of sisters Jordan and Kylie Miller (on lead vocals/bass and guitar\, respectively)\, Eliza Enman-McDaniel (on drums)\, and Leandra Earl (on keys and guitar)\, the band has a natural kismet that shines through on each of their tracks and in their live performances. After two self-released EPs\, The Beaches unveiled their debut album Late Show in October 2017. Late Show was recorded in Toronto and produced by Emily Haines and Jimmy Shaw of five-time Juno Award-winners Metric and mixed by multi-Grammy Award-winner Tchad Blake. The album propelled the band to a JUNO for Breakthrough Group of the Year and the album’s singles went on to become instant radio favourites\, with the infectious “Money” topping alternative radio charts and “T-Shirt” securing #1 for nine weeks on the Billboard Rock Chart. \nThe Beaches have had a whirlwind couple of years accompanying Death From Above on their North American Tour\, headlining  their first ever national tour\, performing as a supporting act for the Foo Fighters on their Toronto show and most recently having been invited to join Passion Pit on their 10 Year Anniversary Tour. In addition\, last year saw their first iHeart MMVA nomination in the “Best New Canadian Artist” category where they performed their hit single “T-Shirt.” Garnering critical acclaim and public support from Sir Elton John who counts himself as a vocal fan – The Beaches are on the precipice of even greater things in 2019.
URL:https://rock95.com/event/the-beaches-at-kee-to-bala/
LOCATION:The Kee - Bala\, 1012 Bala Falls Road\, Bala\, Ontario\, P0C 1A0\, Canada
CATEGORIES:Concerts
ATTACH;FMTTYPE=image/jpeg:https://rock95.com/cobPub/uploads/2024/07/event-header-scaled-1.jpg
END:VEVENT
BEGIN:VEVENT
DTSTART;TZID=America/Toronto:20240712T200000
DTEND;TZID=America/Toronto:20240712T220000
DTSTAMP:20260422T004247
CREATED:20240326T195652Z
LAST-MODIFIED:20240708T003430Z
UID:10000078-1720814400-1720821600@rock95.com
SUMMARY:April Wine at Kee to Bala
DESCRIPTION:This is a LEGAL AGE 19+ event.\nDoors: 8pm\nShow: 9pmThe VIP Balcony ticket includes:\nDedicated and expedited line access into the venue and private washrooms\nNet Capacity: 1\,050
URL:https://rock95.com/event/april-wine-at-kee-to-bala/
LOCATION:The Kee - Bala\, 1012 Bala Falls Road\, Bala\, Ontario\, P0C 1A0\, Canada
CATEGORIES:Concerts
ATTACH;FMTTYPE=image/jpeg:https://rock95.com/cobPub/uploads/2024/07/event-header-5-scaled-1.jpg
END:VEVENT
BEGIN:VEVENT
DTSTART;TZID=America/Toronto:20240712T000000
DTEND;TZID=America/Toronto:20240712T000000
DTSTAMP:20260422T004247
CREATED:20240711T150021Z
LAST-MODIFIED:20240711T150021Z
UID:10000177-1720742400-1720742400@rock95.com
SUMMARY:JULES IS DEAD\, Sydney Riley & Cousin Floyd at THE QUEENS NIGHTCLUB
DESCRIPTION:Jules Is Dead has been catching the eye of not just the modern emo-punk scene\, but major labels and the music industry experts as well. In many ways\, Jules perfectly encapsulates the current zeitgeist of independent music with their inclusive nature and take no shit attitude\, but don't assume that this is anything run of the mill. \nMake sure to catch JULES IS DEAD when they perform with their band in Barrie\, Ontario at Queens Hotel on Friday July 12th with Sydney Riley and Cousin Floyd (Justin Lawrence). \nJULES IS DEAD Joined Barrie 360 for an episode of "What Barrie's Talking About"
URL:https://rock95.com/event/jules-is-dead-sydney-riley-cousin-floyd-at-the-queens-nightclub/
LOCATION:The Queens\, 94 Dunlop St E\,\, Barrie\, ON\, L4M 1A4\, Canada
CATEGORIES:Concerts
ATTACH;FMTTYPE=image/jpeg:https://rock95.com/cobPub/uploads/2024/07/jules-is-dead-event-poster.jpg
END:VEVENT
END:VCALENDAR