BEGIN:VCALENDAR
VERSION:2.0
PRODID:-//Rock 95 - ECPv6.15.16//NONSGML v1.0//EN
CALSCALE:GREGORIAN
METHOD:PUBLISH
X-WR-CALNAME:Rock 95
X-ORIGINAL-URL:https://rock95.com
X-WR-CALDESC:Events for Rock 95
REFRESH-INTERVAL;VALUE=DURATION:PT1H
X-Robots-Tag:noindex
X-PUBLISHED-TTL:PT1H
BEGIN:VTIMEZONE
TZID:America/Toronto
BEGIN:DAYLIGHT
TZOFFSETFROM:-0500
TZOFFSETTO:-0400
TZNAME:EDT
DTSTART:20250309T070000
END:DAYLIGHT
BEGIN:STANDARD
TZOFFSETFROM:-0400
TZOFFSETTO:-0500
TZNAME:EST
DTSTART:20251102T060000
END:STANDARD
BEGIN:DAYLIGHT
TZOFFSETFROM:-0500
TZOFFSETTO:-0400
TZNAME:EDT
DTSTART:20260308T070000
END:DAYLIGHT
BEGIN:STANDARD
TZOFFSETFROM:-0400
TZOFFSETTO:-0500
TZNAME:EST
DTSTART:20261101T060000
END:STANDARD
BEGIN:DAYLIGHT
TZOFFSETFROM:-0500
TZOFFSETTO:-0400
TZNAME:EDT
DTSTART:20270314T070000
END:DAYLIGHT
BEGIN:STANDARD
TZOFFSETFROM:-0400
TZOFFSETTO:-0500
TZNAME:EST
DTSTART:20271107T060000
END:STANDARD
END:VTIMEZONE
BEGIN:VEVENT
DTSTART;TZID=America/Toronto:20260424T080000
DTEND;TZID=America/Toronto:20260424T170000
DTSTAMP:20260424T051650
CREATED:20251209T174950Z
LAST-MODIFIED:20251209T174950Z
UID:10001077-1777017600-1777050000@rock95.com
SUMMARY:Triumph: The Rock & Roll Machine Reloaded Tour w/ special guest April Wine
DESCRIPTION:
URL:https://rock95.com/event/triumph-the-rock-roll-machine-reloaded-tour-w-special-guest-april-wine/
LOCATION:Scotiabank Arena\, 40 Bay St.\, Toronto\, Ontario\, M5J 2X2\, Canada
CATEGORIES:Concerts
ATTACH;FMTTYPE=image/jpeg:https://rock95.com/cobPub/uploads/2025/12/smile-cookie-14.jpg
END:VEVENT
BEGIN:VEVENT
DTSTART;TZID=America/Toronto:20260424T110000
DTEND;TZID=America/Toronto:20260426T160000
DTSTAMP:20260424T051650
CREATED:20260408T163655Z
LAST-MODIFIED:20260408T163655Z
UID:10001366-1777028400-1777219200@rock95.com
SUMMARY:Spring guided tours at Nancy Island Historic Site
DESCRIPTION:Visit Nancy Island Historic Site for a fascinating guided tour of this attraction in the heart of Wasaga Beach\, commemorating a pivotal moment in the war of 1812. \nThese spring tours are led by our most seasoned historical interpreters! Tours include a pre-determined route through the historic site\, as well as access to the indoor museum and gift shop. \nTours from April 3rd to October 11th : \n·       10:30am\n·       12:30pm\n·       1:30pm\n·       3:00pm
URL:https://rock95.com/event/spring-guided-tours-at-nancy-island-historic-site/2026-04-24/
LOCATION:Nancy Island Historic Site\, 119 Mosley Street\, Wasaga Beach\, Ontario\, L9Z 2X1\, Canada
CATEGORIES:Community
ATTACH;FMTTYPE=image/jpeg:https://rock95.com/cobPub/uploads/2026/03/Spring-guided-tours-at-Nancy-Island-Historic-Site.jpg
END:VEVENT
BEGIN:VEVENT
DTSTART;TZID=America/Toronto:20260424T110000
DTEND;TZID=America/Toronto:20260426T170000
DTSTAMP:20260424T051650
CREATED:20260408T162027Z
LAST-MODIFIED:20260408T162027Z
UID:10001201-1777028400-1777222800@rock95.com
SUMMARY:Spring guided tours at Discovery Harbour
DESCRIPTION:Visit Discovery Harbour for a fascinating guided tour through 19th-century buildings\, shipwrecks\, and homesteads. \nThese spring tours are led by our most seasoned historical interpreters! Tours include a pre-determined route through this beautiful waterfront attraction\, as well as access to an indoor museum and gift shop. \nOn Fridays\, Saturdays\, and Sundays Until April 26th.
URL:https://rock95.com/event/spring-guided-tours-at-discovery-harbour/2026-04-24/
LOCATION:Discovery Harbour\, 93 Jury Drive\, Penetanguishene\, Ontario\, L9M 1G1\, Canada
CATEGORIES:Community
ATTACH;FMTTYPE=image/jpeg:https://rock95.com/cobPub/uploads/2026/03/Spring-guided-tours-at-Discovery-Harbour.jpg
END:VEVENT
END:VCALENDAR